BEGIN:VCALENDAR
VERSION:2.0
PRODID:-//SPE-Amsterdam - ECPv6.1.3//NONSGML v1.0//EN
CALSCALE:GREGORIAN
METHOD:PUBLISH
X-ORIGINAL-URL:https://www.spe-amsterdam.nl
X-WR-CALDESC:Evenementen voor SPE-Amsterdam
REFRESH-INTERVAL;VALUE=DURATION:PT1H
X-Robots-Tag:noindex
X-PUBLISHED-TTL:PT1H
BEGIN:VTIMEZONE
TZID:Europe/Amsterdam
BEGIN:DAYLIGHT
TZOFFSETFROM:+0100
TZOFFSETTO:+0200
TZNAME:CEST
DTSTART:20230326T010000
END:DAYLIGHT
BEGIN:STANDARD
TZOFFSETFROM:+0200
TZOFFSETTO:+0100
TZNAME:CET
DTSTART:20231029T010000
END:STANDARD
END:VTIMEZONE
BEGIN:VEVENT
DTSTART;TZID=Europe/Amsterdam:20230601T080000
DTEND;TZID=Europe/Amsterdam:20230611T170000
DTSTAMP:20260424T030131
CREATED:20230531T095610Z
LAST-MODIFIED:20230531T095610Z
UID:19443-1685606400-1686502800@www.spe-amsterdam.nl
SUMMARY:Rotterdam Pride
DESCRIPTION:
URL:https://www.spe-amsterdam.nl/event/rotterdam-pride/
ATTACH;FMTTYPE=image/jpeg:https://www.spe-amsterdam.nl/wp-content/uploads/2021/03/550x309.jpg
END:VEVENT
BEGIN:VEVENT
DTSTART;TZID=Europe/Amsterdam:20230609T140000
DTEND;TZID=Europe/Amsterdam:20230609T170000
DTSTAMP:20260424T030131
CREATED:20230426T080248Z
LAST-MODIFIED:20230426T080248Z
UID:19346-1686319200-1686330000@www.spe-amsterdam.nl
SUMMARY:Multiplier Event CERES
DESCRIPTION:Beste trainer\, coach en/of beleidsmaker die werkt met vluchtelingen\, \nWij nodigen u graag uit op onze multiplier meeting over de CERES ondernemerscursus voor vrouwelijke vluchtelingen. \nDeze meeting zal plaatsvinden op 9 juni van 14.00 tot 17.00 uur in Noordwijk. \nDe meeting geeft ons de gelegenheid om ervaringen te delen en van elkaar te leren\, evenals om nieuwe partnerships te ontwikkelen. Er is beperkte beschikbaarheid voor deze bijeenkomst\, dus we raden u aan om u zo snel mogelijk te registreren\, via een mail naar info@cerescc.com. \nMeer informatie over het evenement en het programma vindt u op cerescc.com/multiplier. Voor meer informatie over het Europese project kunt u terecht op 241fe.eu. \nWe hopen u op 9 juni te zien op onderstaand adres. \nRegister Here
URL:https://www.spe-amsterdam.nl/event/multiplier-event-ceres/
LOCATION:Hogeweg 77  Noordwijk\, ZH 2201 AN  Nederland\, Hogeweg 77\, Noordwijk\, 2201 AN
END:VEVENT
END:VCALENDAR