BEGIN:VCALENDAR
VERSION:2.0
PRODID:-//SPE-Amsterdam - ECPv6.1.3//NONSGML v1.0//EN
CALSCALE:GREGORIAN
METHOD:PUBLISH
X-WR-CALNAME:SPE-Amsterdam
X-ORIGINAL-URL:https://www.spe-amsterdam.nl
X-WR-CALDESC:Evenementen voor SPE-Amsterdam
REFRESH-INTERVAL;VALUE=DURATION:PT1H
X-Robots-Tag:noindex
X-PUBLISHED-TTL:PT1H
BEGIN:VTIMEZONE
TZID:Europe/Amsterdam
BEGIN:DAYLIGHT
TZOFFSETFROM:+0100
TZOFFSETTO:+0200
TZNAME:CEST
DTSTART:20230326T010000
END:DAYLIGHT
BEGIN:STANDARD
TZOFFSETFROM:+0200
TZOFFSETTO:+0100
TZNAME:CET
DTSTART:20231029T010000
END:STANDARD
END:VTIMEZONE
BEGIN:VEVENT
DTSTART;TZID=Europe/Amsterdam:20230601T080000
DTEND;TZID=Europe/Amsterdam:20230611T170000
DTSTAMP:20260424T014634
CREATED:20230531T095610Z
LAST-MODIFIED:20230531T095610Z
UID:19443-1685606400-1686502800@www.spe-amsterdam.nl
SUMMARY:Rotterdam Pride
DESCRIPTION:
URL:https://www.spe-amsterdam.nl/event/rotterdam-pride/
ATTACH;FMTTYPE=image/jpeg:https://www.spe-amsterdam.nl/wp-content/uploads/2021/03/550x309.jpg
END:VEVENT
BEGIN:VEVENT
DTSTART;TZID=Europe/Amsterdam:20230603T140000
DTEND;TZID=Europe/Amsterdam:20230603T170000
DTSTAMP:20260424T014634
CREATED:20230531T144831Z
LAST-MODIFIED:20230531T151141Z
UID:19452-1685800800-1685811600@www.spe-amsterdam.nl
SUMMARY:De Dag van de H-Buurt
DESCRIPTION:Zaterdag 3 juni is de Dag van de H-Buurt: Heesterveld\, Hakfort\, Huigenbos\, Juntum\, Hogevecht\, Haag en veld\, hoptille\, Hofgeest\, Hoogoord\, Haardstee en pleintje. \nDit word een feestelijk en informatieve dag voor jong en oud! \n\ndiverse activiteiten\ninformatie over gezondheid\, veiligheid en meer\neten en drinken\nsport en spel
URL:https://www.spe-amsterdam.nl/event/de-dag-van-de-h-buurt/
ATTACH;FMTTYPE=image/jpeg:https://www.spe-amsterdam.nl/wp-content/uploads/2023/05/hbuurt.jpeg
END:VEVENT
BEGIN:VEVENT
DTSTART;TZID=Europe/Amsterdam:20230603T200000
DTEND;TZID=Europe/Amsterdam:20230603T213000
DTSTAMP:20260424T014634
CREATED:20230508T124144Z
LAST-MODIFIED:20230508T124203Z
UID:19377-1685822400-1685827800@www.spe-amsterdam.nl
SUMMARY:Première Theatervoorstelling Massa|Mens
DESCRIPTION:Het STUT theater heeft een nieuwe voorstelling: een community theatervoorstelling over andersdenken\, massavorming en polarisatie. Dit is gebaseerd op de persoonlijke verhalen van de spelers\, die geen professionele acteurs zijn. \nWe willen als mens bij een groep horen\, gezien worden\, onderdeel zijn van een groter geheel. Opgaan in de massa\, de energie voelen pulseren van duizenden mensen\, bij een demonstratie of een festival. Maar een massa kan ook destructief zijn. Een monster dat in alles wat anders is een vijand ziet. \nIn de voorstelling MASSA|MENS zijn er een aantal mensen die immuun lijken voor massavorming. Ze zijn bij elkaar gezet als experiment. Waarom kunnen zij wel hun eigen pad kiezen\, tegen de massa ingaan en openstaan voor andersdenkenden? Is dit echt zo en vooral: blijft dit zo? \nSTUT hanteert betalen-naar-draagkracht.\n* Een regulier ticket kost €10\,-.\n* Meer of minder te besteden? Kies dan voor een Korting ticket voor 7\,50. Helemaal geen geld? Geen punt! Mail naar Mánòn Suringa op manon@stut.nl voor een gratis kaartje.\n* Zit je wat ruimer bij kas? Kies voor een Toegift ticket voor 12\,50. De 2\,50 extra zetten wij in om gratis kaartjes te kunnen weggegeven aan mensen die even geen geld hebben voor theater.
URL:https://www.spe-amsterdam.nl/event/theatervoorstelling-massamens/
LOCATION:ZIMIHC theater Stefanus\, Braziliëdreef 2\, Utrecht\, 3563 CK
END:VEVENT
END:VCALENDAR