BEGIN:VCALENDAR
VERSION:2.0
PRODID:-//SPE-Amsterdam - ECPv6.1.3//NONSGML v1.0//EN
CALSCALE:GREGORIAN
METHOD:PUBLISH
X-WR-CALNAME:SPE-Amsterdam
X-ORIGINAL-URL:https://www.spe-amsterdam.nl
X-WR-CALDESC:Evenementen voor SPE-Amsterdam
REFRESH-INTERVAL;VALUE=DURATION:PT1H
X-Robots-Tag:noindex
X-PUBLISHED-TTL:PT1H
BEGIN:VTIMEZONE
TZID:Europe/Amsterdam
BEGIN:DAYLIGHT
TZOFFSETFROM:+0100
TZOFFSETTO:+0200
TZNAME:CEST
DTSTART:20230326T010000
END:DAYLIGHT
BEGIN:STANDARD
TZOFFSETFROM:+0200
TZOFFSETTO:+0100
TZNAME:CET
DTSTART:20231029T010000
END:STANDARD
END:VTIMEZONE
BEGIN:VEVENT
DTSTART;TZID=Europe/Amsterdam:20230505T133000
DTEND;TZID=Europe/Amsterdam:20230505T160000
DTSTAMP:20260424T015038
CREATED:20230331T093931Z
LAST-MODIFIED:20230331T093931Z
UID:19276-1683293400-1683302400@www.spe-amsterdam.nl
SUMMARY:Wikipedia-schrijfmiddag over verzetsvrouwen van Atria
DESCRIPTION:Op 5 mei organiseert Atria een Wikipedia-schrijfmiddag over verzetsvrouwen. Wie waren deze vrouwen en waarom kennen wij hun verhalen nog niet? Verwacht tijdens deze middag inspirerende verhalen over deze bijzondere vrouwen en leer hoe je kunt meeschrijven aan ’s werelds grootste internet-encyclopedie onder begeleiding van Wikipedia bewerkers. \nHistorici Agnes Cremers en Mark Bergsma helpen je op weg. Zij houden tijdens deze schrijfmiddag een korte inspiratiesessie over verzetsvrouwen en waarom zij zo onzichtbaar zijn gebleven in onze geschiedenis.Je krijgt van ons namen en bronnen waarmee je aan de slag kunt\, maar je mag natuurlijk ook je eigen verzetsvrouw beschrijven. Activisme vanuit je bureaustoel\, wie wil dat nu niet? \nInteresse? Deelname is gratis maar aanmelden verplicht. Dit doe je door je via dit formulier in te schrijven.
URL:https://www.spe-amsterdam.nl/event/wikipedia-schrijfmiddag-over-verzetsvrouwen-van-atria/
LOCATION:Bibliotheek Atria\, Vijzelstraat 20\, Amsterdam\, 1017HK
END:VEVENT
BEGIN:VEVENT
DTSTART;TZID=Europe/Amsterdam:20230505T160000
DTEND;TZID=Europe/Amsterdam:20230505T200000
DTSTAMP:20260424T015038
CREATED:20230421T143123Z
LAST-MODIFIED:20230421T143123Z
UID:19340-1683302400-1683316800@www.spe-amsterdam.nl
SUMMARY:Vrijheidsmaaltijd
DESCRIPTION:Op 5 mei organiseren Carolien van der Zwaart en Sylvia Panhuise in de binnentuin van De Kempenaerstudio een Vrijheidsmaaltijd in samenwerking met het 4&5 mei comité en de bewoners van het Van Beuningenplein. Het feest begint om 16.00 uur en de ingang aan de Van Hallstraat 54 wordt gebruikt. \nVia Yope zijn we in contact gekomen met Naomi King en Naomi Rosheuvel\, zij gaan ieder een workshop geven. \nNaomi King is beeldend kunstenaar en graffiti artist en zij zal rondom het thema vrijheid samen met de deelnemers (max 15) kleine graffiti kunstwerkjes maken die mogelijk samen een geheel kunnen gaan vormen en eventueel kunnen worden opgehangen in één van de poorten als buurt kunstwerk. \nNoami Rosheuvel\, ook beeldend kunstenaar\, gaat samen met de deelnemers (max 15) rondom het thema\, tassen versieren met sjablonen\, verf etc. Ook deze kunstwerkjes kunnen mee naar huis worden genomen. \n  \nNa de workshops gaan we gezamenlijk naar het Van Beuningenplein waar de vrijheids soep (van het 4&5 mei comité) wordt gereserveerd. Aansluitend vindt er daar een concert plaats van het Ricciotti Ensemble. \nDe hele middag wordt gehost door Yvonne van den Eerenbeemt\, het geluid wordt verzorgd door PTO (Andreas Wiersum)\, beide huurders bij De Kempenaerstudio.
URL:https://www.spe-amsterdam.nl/event/vrijheidsmaaltijd/
LOCATION:Kempenaerstudio\, De Kempenaerstraat 11-B\, Amsterdam\, 1051CJ\, Nederland
ATTACH;FMTTYPE=image/png:https://www.spe-amsterdam.nl/wp-content/uploads/2023/04/Vrijheidsmaaltijd-flyer-3.png
END:VEVENT
BEGIN:VEVENT
DTSTART;TZID=Europe/Amsterdam:20230505T200000
DTEND;TZID=Europe/Amsterdam:20230505T220000
DTSTAMP:20260424T015038
CREATED:20230414T081628Z
LAST-MODIFIED:20230414T081628Z
UID:19327-1683316800-1683324000@www.spe-amsterdam.nl
SUMMARY:Film: Alles in mij
DESCRIPTION:In de documentaire-film Alles in mij interviewt theatermaker en journalist Khadija Massaoudi\, in het kader van de herdenking van de Tweede Wereldoorlog\, vier vrouwen met verschillende achtergronden over hoe de Nederlandse geschiedenis hun familie en henzelf getekend heeft en over het meedragen van trauma’s die van generatie op generatie overgedragen zijn. \n\n\n\n\n\n\n\n\n\n\nMassaoudi maakte Alles in Mij tijdens de lockdown in 2021. Alles in Mij werd goed ontvangen en kreeg een lovende recensie in de Theaterkrant. De verhalen en de krachtige woorden van de geïnterviewde vrouwen waren herkenbaar\, on point en voor altijd actueel. Het is dan ook een waar genoegen om de film twee jaar later te kunnen vertonen en dit keer wel met de aanwezigheid van publiek. De film met nagesprek is te zien in Theater Van Deyssel. \nDe film is gratis\, maar er is wel een verplichte aanmelding. Wil je meer informatie of reserveren? Kijk dan hier.
URL:https://www.spe-amsterdam.nl/event/film-alles-in-mij/
LOCATION:Theater van Deyssel\, Lodewijk Van Deysselstraat 91\,\, Amsterdam\, 1064 hm
END:VEVENT
END:VCALENDAR