BEGIN:VCALENDAR
VERSION:2.0
PRODID:-//SPE-Amsterdam - ECPv6.1.3//NONSGML v1.0//EN
CALSCALE:GREGORIAN
METHOD:PUBLISH
X-ORIGINAL-URL:https://www.spe-amsterdam.nl
X-WR-CALDESC:Evenementen voor SPE-Amsterdam
REFRESH-INTERVAL;VALUE=DURATION:PT1H
X-Robots-Tag:noindex
X-PUBLISHED-TTL:PT1H
BEGIN:VTIMEZONE
TZID:Europe/Amsterdam
BEGIN:DAYLIGHT
TZOFFSETFROM:+0100
TZOFFSETTO:+0200
TZNAME:CEST
DTSTART:20230326T010000
END:DAYLIGHT
BEGIN:STANDARD
TZOFFSETFROM:+0200
TZOFFSETTO:+0100
TZNAME:CET
DTSTART:20231029T010000
END:STANDARD
END:VTIMEZONE
BEGIN:VEVENT
DTSTART;VALUE=DATE:20230504
DTEND;VALUE=DATE:20230505
DTSTAMP:20260424T014811
CREATED:20230412T080651Z
LAST-MODIFIED:20230412T080651Z
UID:19313-1683158400-1683244799@www.spe-amsterdam.nl
SUMMARY:Herdenking Assadaaka community
DESCRIPTION:Op 4 mei 2023 organiseert Assadaaka Community een herdenking. De oorlogsslachtoffers die zijn omgekomen omdat naastenliefde en vrede werden ingehaald door tegenstellingen en angst worden herdacht. Een interreligieuze samenwerking van organisaties in Oost\, waaronder Assadaaka Community\, organiseert jaarlijks een herdenking in Oost. Dat doen zij met een stille tocht langs het monument bij Muiderpoort Station\, naar het monument op Ceramplein\, waar er samen stil wordt gestaan\, gevolgd door woorden van herdenking. U bent van harte welkom! \nDe geschiedenis herinnert ons er aan hoe ontzettend belangrijk het is om er altijd voor te zorgen dat tegenstellingen niet de overhand nemen. Dat naastenliefde\, gelijkheid en respect de belangrijkste basis van onze samenleving vormen. Er zijn op 4 mei verschillende activiteiten om samen te herdenken. \nProgramma 4 mei 2023:\n11u – 12u Wandeling met Geheugen van Oost (start bij Assadaaka Community)\n14u – 16u Themabijeenkomst Herdenken (locatie Assadaaka Community)\n17.30 – 18.30 Mogelijkheid tot maaltijd\n18.30 – Verzamelen Wethouder Verheijhal – Assadaaka Community\n18.45 – Start Stille Tocht naar Muiderpoort Station\, bloemen leggen en toespraak\n19.15 – Vervolg Stille Tocht naar Ceramplein\n19.30 – Aankomst Ceramplein\, bloemen leggen\n20u – Twee minuten stilte en toespraken\n20.45 – Terug richting Wethouder Verheijhal – Assadaaka Community met themagesprek en eventueel een maaltijd (met live verbinding) \nVoor meer informatie klikt u hier.
URL:https://www.spe-amsterdam.nl/event/herdenking-assadaaka-community/
LOCATION:Assadaaka Community\, Polderweg 300\, Wethouder Verheijhal\, 1e etage\, Amsterdam\, Noord-Holland\, 1093 KP\, Nederland
ORGANIZER;CN="Vriendschap%20Community%20Assadaaka":MAILTO:www.assadaaka.nl
END:VEVENT
END:VCALENDAR