BEGIN:VCALENDAR
VERSION:2.0
PRODID:-//SPE-Amsterdam - ECPv6.1.3//NONSGML v1.0//EN
CALSCALE:GREGORIAN
METHOD:PUBLISH
X-ORIGINAL-URL:https://www.spe-amsterdam.nl
X-WR-CALDESC:Evenementen voor SPE-Amsterdam
REFRESH-INTERVAL;VALUE=DURATION:PT1H
X-Robots-Tag:noindex
X-PUBLISHED-TTL:PT1H
BEGIN:VTIMEZONE
TZID:Europe/Amsterdam
BEGIN:DAYLIGHT
TZOFFSETFROM:+0100
TZOFFSETTO:+0200
TZNAME:CEST
DTSTART:20230326T010000
END:DAYLIGHT
BEGIN:STANDARD
TZOFFSETFROM:+0200
TZOFFSETTO:+0100
TZNAME:CET
DTSTART:20231029T010000
END:STANDARD
END:VTIMEZONE
BEGIN:VEVENT
DTSTART;TZID=Europe/Amsterdam:20230502T140000
DTEND;TZID=Europe/Amsterdam:20230502T160000
DTSTAMP:20260424T014848
CREATED:20230501T133736Z
LAST-MODIFIED:20230501T133806Z
UID:19358-1683036000-1683043200@www.spe-amsterdam.nl
SUMMARY:Danspaleis
DESCRIPTION:Elke dinsdag Danspaleis: lekker swingen op muziek van vroeger.  \nMet het ouder worden\, wordt de wereld van ouderen vaak kleiner. Lichamelijke en geestelijke beperkingen en het verlies van dierbaren en contacten zorgen voor een kleinere leefwereld. Hierdoor liggen inactiviteit en eenzaamheid op de loer\, met de kans op een negatieve spiraal. Muziek helpt ouderen om uit die negatieve spiraal te komen en op te leven\, want muziek raakt en is emotie. \nDanspaleis is het ‘tankstation van levenslust’. De missie van het Danspaleis is om alle ouderen in Nederland vitaal en inclusief te houden. Vanuit de visie dat muziek een magisch middel is om mensen bij elkaar te brengen en ouderen in beweging te zetten\, is de Danspaleisformule ontwikkeld. \nVan 14 tot 16 uur; de toegang is gratis! Adres Kramatplantsoen 101h
URL:https://www.spe-amsterdam.nl/event/danspaleis/
LOCATION:Adres Kramatplantsoen 101h\, Adres Kramatplantsoen 101h\, Amsterdam
END:VEVENT
END:VCALENDAR