BEGIN:VCALENDAR
VERSION:2.0
PRODID:-//SPE-Amsterdam - ECPv6.1.3//NONSGML v1.0//EN
CALSCALE:GREGORIAN
METHOD:PUBLISH
X-WR-CALNAME:SPE-Amsterdam
X-ORIGINAL-URL:https://www.spe-amsterdam.nl
X-WR-CALDESC:Evenementen voor SPE-Amsterdam
REFRESH-INTERVAL;VALUE=DURATION:PT1H
X-Robots-Tag:noindex
X-PUBLISHED-TTL:PT1H
BEGIN:VTIMEZONE
TZID:Europe/Amsterdam
BEGIN:DAYLIGHT
TZOFFSETFROM:+0100
TZOFFSETTO:+0200
TZNAME:CEST
DTSTART:20230326T010000
END:DAYLIGHT
BEGIN:STANDARD
TZOFFSETFROM:+0200
TZOFFSETTO:+0100
TZNAME:CET
DTSTART:20231029T010000
END:STANDARD
END:VTIMEZONE
BEGIN:VEVENT
DTSTART;TZID=Europe/Amsterdam:20230429T160000
DTEND;TZID=Europe/Amsterdam:20230429T180000
DTSTAMP:20260424T003019
CREATED:20230407T113256Z
LAST-MODIFIED:20230407T113256Z
UID:19303-1682784000-1682791200@www.spe-amsterdam.nl
SUMMARY:Film: Fatema\, La Sultane Inoubliable
DESCRIPTION:In samenwerking met St. Emcemo laat Stichting Aknarij een prachtige biopic over Fatima Mernissi in Rialto draaien. \nDe invloed die de Marokkaanse sociologe Fatima Mernissi (1940-2015) gehad heeft\nop het denken over vrouwen in de islamitische wereld is groot. Dat vrouwen een\nondergeschikte positie in de Marokkaanse samenleving toebedeeld hadden gekregen\,\nwas haar een doorn in het oog\, zeker omdat zij in de Koran geen enkele reden kon\nvinden die deze positie zou rechtvaardigen – vrouwen zijn immers even vindingrijk\nen creatief als mannen\, zo had ze in haar vele onderzoeken vastgesteld. Deze opstelling\nleverde haar veel kritiek op vanuit conservatief-islamitische hoek\, maar ook veel\ninternationale waardering; zo werd haar werk in 2004 onderscheiden met de\nErasmusprijs.\nFatima Mernissi was een vrouw die tussen haar boeken en vrienden leefde\, zo zegt\nregisseur Mohamed Abderrahman Tazi. Met deze liefdevolle biopic wilde hij haar\,\nhaar werk en haar vrienden weer terug tot leven brengen. De regisseur is deze middag aanwezig voor vragen uit het publiek.
URL:https://www.spe-amsterdam.nl/event/film-fatema-la-sultane-inoubliable/
LOCATION:rialto de pijp\, Ceintuurbaan 338\, Amsterdam\, 1072 GN
ATTACH;FMTTYPE=application/pdf:https://www.spe-amsterdam.nl/wp-content/uploads/2023/04/Flyer-Film-Fatema.pdf
END:VEVENT
END:VCALENDAR