BEGIN:VCALENDAR
VERSION:2.0
PRODID:-//SPE-Amsterdam - ECPv6.1.3//NONSGML v1.0//EN
CALSCALE:GREGORIAN
METHOD:PUBLISH
X-ORIGINAL-URL:https://www.spe-amsterdam.nl
X-WR-CALDESC:Evenementen voor SPE-Amsterdam
REFRESH-INTERVAL;VALUE=DURATION:PT1H
X-Robots-Tag:noindex
X-PUBLISHED-TTL:PT1H
BEGIN:VTIMEZONE
TZID:Europe/Amsterdam
BEGIN:DAYLIGHT
TZOFFSETFROM:+0100
TZOFFSETTO:+0200
TZNAME:CEST
DTSTART:20230326T010000
END:DAYLIGHT
BEGIN:STANDARD
TZOFFSETFROM:+0200
TZOFFSETTO:+0100
TZNAME:CET
DTSTART:20231029T010000
END:STANDARD
END:VTIMEZONE
BEGIN:VEVENT
DTSTART;TZID=Europe/Amsterdam:20230328T150000
DTEND;TZID=Europe/Amsterdam:20230328T163000
DTSTAMP:20260423T231848
CREATED:20230320T145612Z
LAST-MODIFIED:20230322T113851Z
UID:19248-1680015600-1680021000@www.spe-amsterdam.nl
SUMMARY:Online Kennissessie Movisie: Non-binaire personen en genderinclusief beleid
DESCRIPTION:Movisie organiseert een nieuwe reeks Regenboogsteden Online Kennisateliers: leerzame en inspirerende online sessies over een lhbti+ gerelateerd onderwerp. In deze kennissessie Regenboogbeleid praten we je bij over non-binaire personen en genderinclusief beleid. Wat is non-binair eigenlijk\, waarom is het belangrijk om aandacht voor non-binaire personen te hebben\, en wat kun je als gemeente of andere organisatie doen om genderinclusiever te werken? We delen tips uit de nieuwe handreiking ’10 vragen over non-binaire personen’ en gaan in op de ervaringen van een ervaringsdeskundige. \nDit Kennisatelier is er één in een reeks van drie Kennisateliers die je in maart\, april en mei kan bijwonen. Alle Online Kennisateliers starten stipt om 15.00 uur\, vanaf 14.45 uur is er een digitale inloop. Rond 16.30 uur zullen ze worden afgesloten. Deelname is gratis en er zal gebruikt worden gemaakt van Zoom. \nMeld je aan via de website: Regenboogsteden Kennisatelier: Non-binaire personen  en genderinclusief beleid | Movisie
URL:https://www.spe-amsterdam.nl/event/online-kennissessie-movisie-non-binaire-personen-en-genderinclusief-beleid/
LOCATION:Online
ORGANIZER;CN="Movisie":MAILTO:info@movisie.nl
END:VEVENT
END:VCALENDAR