BEGIN:VCALENDAR
VERSION:2.0
PRODID:-//SPE-Amsterdam - ECPv6.1.3//NONSGML v1.0//EN
CALSCALE:GREGORIAN
METHOD:PUBLISH
X-WR-CALNAME:SPE-Amsterdam
X-ORIGINAL-URL:https://www.spe-amsterdam.nl
X-WR-CALDESC:Evenementen voor SPE-Amsterdam
REFRESH-INTERVAL;VALUE=DURATION:PT1H
X-Robots-Tag:noindex
X-PUBLISHED-TTL:PT1H
BEGIN:VTIMEZONE
TZID:Europe/Amsterdam
BEGIN:DAYLIGHT
TZOFFSETFROM:+0100
TZOFFSETTO:+0200
TZNAME:CEST
DTSTART:20230326T010000
END:DAYLIGHT
BEGIN:STANDARD
TZOFFSETFROM:+0200
TZOFFSETTO:+0100
TZNAME:CET
DTSTART:20231029T010000
END:STANDARD
END:VTIMEZONE
BEGIN:VEVENT
DTSTART;TZID=Europe/Amsterdam:20230317T130000
DTEND;TZID=Europe/Amsterdam:20230317T130000
DTSTAMP:20260423T231746
CREATED:20230203T175352Z
LAST-MODIFIED:20230203T175909Z
UID:19041-1679058000-1679058000@www.spe-amsterdam.nl
SUMMARY:Deadline Projectaanvraag Zelfbewust opgroeien
DESCRIPTION:DEADLINE: vrijdag 17 maart om 13:00 \nHet doel van dit speerpunt is het bevorderen van zelfbeschikking. Zelfbeschikking betekent dat meisjes en vrouwen hun eigen keuzes kunnen maken en zichzelf kunnen zijn. \nHet speerpunt zelfbewust opgroeien gaat over meisjes en jonge vrouwen. Meisjes kunnen erg kwetsbaar zijn en kunnen hulp nodig hebben om weerbaarder te worden. Dit betekent dat zij beter voor zichzelf op durven te komen en niet over hun eigen grenzen gaan. \nProblemen thuis of op school kunnen leiden tot grote zorgen bij de meisjes die niet altijd zichtbaar zijn. In Amsterdam zien we meisjes die niet de keuze mogen maken die ze zouden willen maken. Bijvoorbeeld omdat hun familie dit niet wil of omdat meisjes bang zijn dat anderen in hun omgeving het een slechte keuze vinden. Ook kunnen zij (seksueel) grensoverschrijdend gedrag tegenkomen en weten ze niet goed hoe ze hier mee om moeten gaan. \nOm te zorgen dat deze meisjes vrouwen worden die weerbaar zijn\, financiert de gemeente Amsterdam via het SPE projecten die gaan over dit thema. De afgelopen jaren zijn er door het SPE al veel verschillende projecten gefinancierd. Zo zijn er projecten opgezet die gaan over het stimuleren van het zelfbeeld\, het bewust maken van de eigen grenzen\, voorlichting geven over seksuele/liefdes relaties en grensoverschrijdend gedrag. Ook het bespreekbaar maken van taboeonderwerpen is een thema dat goed past bij dit speerpunt. Meisjes opvoeden en op laten groeien tot weerbare meiden is\, kortom\, een behoorlijke uitdaging. \nAanvragen moeten voldoen aan onze criteria\, lees deze goed door voor je aan de slag gaat. Voldoet het plan aan de criteria? Volg dan het stappenplan en dien een aanvraag in door een ingevuld aanvraagformulier te mailen naar info@spe-amsterdam.nl. Gebruik de basishandleiding budget uit het speerpuntbudget aanvragen ter ondersteuning. \n 
URL:https://www.spe-amsterdam.nl/event/deadline-speerpunt-zelfbewust-opgroeien/
END:VEVENT
END:VCALENDAR