BEGIN:VCALENDAR
VERSION:2.0
PRODID:-//SPE-Amsterdam - ECPv6.1.3//NONSGML v1.0//EN
CALSCALE:GREGORIAN
METHOD:PUBLISH
X-WR-CALNAME:SPE-Amsterdam
X-ORIGINAL-URL:https://www.spe-amsterdam.nl
X-WR-CALDESC:Evenementen voor SPE-Amsterdam
REFRESH-INTERVAL;VALUE=DURATION:PT1H
X-Robots-Tag:noindex
X-PUBLISHED-TTL:PT1H
BEGIN:VTIMEZONE
TZID:Europe/Amsterdam
BEGIN:DAYLIGHT
TZOFFSETFROM:+0100
TZOFFSETTO:+0200
TZNAME:CEST
DTSTART:20230326T010000
END:DAYLIGHT
BEGIN:STANDARD
TZOFFSETFROM:+0200
TZOFFSETTO:+0100
TZNAME:CET
DTSTART:20231029T010000
END:STANDARD
END:VTIMEZONE
BEGIN:VEVENT
DTSTART;TZID=Europe/Amsterdam:20230310T080000
DTEND;TZID=Europe/Amsterdam:20230310T170000
DTSTAMP:20260423T231850
CREATED:20230303T142208Z
LAST-MODIFIED:20230303T142208Z
UID:19220-1678435200-1678467600@www.spe-amsterdam.nl
SUMMARY:Viering 10-jarige jubileum - Stichting Congada
DESCRIPTION:Op woensdag 8 maart bestaat Stichting Congada al weer 10 jaar! Vier het met ze mee!
URL:https://www.spe-amsterdam.nl/event/viering-10-jarige-jubileum-stichting-congada/
END:VEVENT
BEGIN:VEVENT
DTSTART;TZID=Europe/Amsterdam:20230310T150000
DTEND;TZID=Europe/Amsterdam:20230310T210000
DTSTAMP:20260423T231850
CREATED:20230303T141715Z
LAST-MODIFIED:20230303T141715Z
UID:19214-1678460400-1678482000@www.spe-amsterdam.nl
SUMMARY:Vier Internationale Vrouwendag met Stichting Cleopatra
DESCRIPTION:
URL:https://www.spe-amsterdam.nl/event/vier-internationale-vrouwendag-met-stichting-cleopatra/
END:VEVENT
END:VCALENDAR