BEGIN:VCALENDAR
VERSION:2.0
PRODID:-//SPE-Amsterdam - ECPv6.1.3//NONSGML v1.0//EN
CALSCALE:GREGORIAN
METHOD:PUBLISH
X-ORIGINAL-URL:https://www.spe-amsterdam.nl
X-WR-CALDESC:Evenementen voor SPE-Amsterdam
REFRESH-INTERVAL;VALUE=DURATION:PT1H
X-Robots-Tag:noindex
X-PUBLISHED-TTL:PT1H
BEGIN:VTIMEZONE
TZID:Europe/Amsterdam
BEGIN:DAYLIGHT
TZOFFSETFROM:+0100
TZOFFSETTO:+0200
TZNAME:CEST
DTSTART:20230326T010000
END:DAYLIGHT
BEGIN:STANDARD
TZOFFSETFROM:+0200
TZOFFSETTO:+0100
TZNAME:CET
DTSTART:20231029T010000
END:STANDARD
END:VTIMEZONE
BEGIN:VEVENT
DTSTART;TZID=Europe/Amsterdam:20230217T100000
DTEND;TZID=Europe/Amsterdam:20230217T140000
DTSTAMP:20260423T220652
CREATED:20230127T092903Z
LAST-MODIFIED:20230209T082414Z
UID:19013-1676628000-1676642400@www.spe-amsterdam.nl
SUMMARY:Ontwikkelsessie 1
DESCRIPTION:Eerste ontwikkelsessie van het jaar! \nLocatie: De Meeuw \nInloop: 9:30 – 10:00 \nBijeenkomst: 10:00 – 13:00 \nLunch: 13:00 – 14:00 \nPitchen van jouw organisatie en project\n\nDatum: Vrijdag 17 Februari\nLocatie: Huis van de Wijk De Meeuw – Motorwal 300\, 1021 PH\, Amsterdam\nInloop: 9:30 – 10.00\nProgramma: 10:00 – 13:00\nLunch: 13:00 – 14:00 \nWe nodigen je van harte uit om deel te nemen aan de eerste ontwikkelsessie van dit nieuwe jaar. Het thema van de sessie is: ‘Pitchen van jouw organisatie en project’. \nCommunicatiespecialist Rebecca Trouwee verzorgt een interactieve workshop. Rebecca heeft een achtergrond in personeelszaken\, technologie en theater. Deze ervaring zet ze nu in bij het geven van trainingen over openbaar spreken en pitchen. Volgens Rebecca is de sleutel tot het geven van een goede presentatie\, pitch of speech: oefenen\, oefenen en nog eens oefenen! Daarom is de workshop interactief opgebouwd met veel ruimte voor oefenen\, vragen en feedback. Tijdens de bijeenkomst staan we daarnaast uitgebreid stil bij de praktijk van het pitchen. Waar moet je rekening mee houden bij het pitchen in verschillende situaties? Hoe pitch je bijvoorbeeld jouw organisatie tijdens een netwerkbijeenkomst? Of hoe overtuig je iemand van het feit dat jouw project dé oplossing voor hun probleem is? \n\nDeelname en lunch zijn gratis! Je kunt alleen deelnemen aan het gehele dagprogramma. Wil jij hierbij aanwezig zijn? Meld je dan snel aan via onderstaande knop of door je naam en organisatie te mailen naar info@spe-amsterdam.nl \nWe zien jullie allemaal heel graag op vrijdag 17 februari! \n\nGroetjes\, Het SPE-Team
URL:https://www.spe-amsterdam.nl/event/ontwikkelsessie-1/
ORGANIZER;CN="SPE":MAILTO:info@spe-amsterdam.nl
END:VEVENT
END:VCALENDAR