BEGIN:VCALENDAR
VERSION:2.0
PRODID:-//SPE-Amsterdam - ECPv6.1.3//NONSGML v1.0//EN
CALSCALE:GREGORIAN
METHOD:PUBLISH
X-WR-CALNAME:SPE-Amsterdam
X-ORIGINAL-URL:https://www.spe-amsterdam.nl
X-WR-CALDESC:Evenementen voor SPE-Amsterdam
REFRESH-INTERVAL;VALUE=DURATION:PT1H
X-Robots-Tag:noindex
X-PUBLISHED-TTL:PT1H
BEGIN:VTIMEZONE
TZID:Europe/Amsterdam
BEGIN:DAYLIGHT
TZOFFSETFROM:+0100
TZOFFSETTO:+0200
TZNAME:CEST
DTSTART:20220327T010000
END:DAYLIGHT
BEGIN:STANDARD
TZOFFSETFROM:+0200
TZOFFSETTO:+0100
TZNAME:CET
DTSTART:20221030T010000
END:STANDARD
END:VTIMEZONE
BEGIN:VEVENT
DTSTART;TZID=Europe/Amsterdam:20221212T113000
DTEND;TZID=Europe/Amsterdam:20221212T143000
DTSTAMP:20260423T192147
CREATED:20221202T135318Z
LAST-MODIFIED:20221202T135420Z
UID:18959-1670844600-1670855400@www.spe-amsterdam.nl
SUMMARY:Empowermenttraining Vrouw & Werk 50+
DESCRIPTION:Ben je 50+? \nDroom je van een baan in loondienst of droom je van een eigen bedrijf starten? \nGraag informeren wij je over ons komende empowermenttraining Vrouw & Werk 50+ \nBuurvrouwennetwerk Gaasperdam organiseert deze training in opdracht van gemeente Amsterdam Zuidoost en in samenwerking met diverse waardevolle samenwerkingspartners \nEen inspirerend programma waar je met andere leeftijdsgenoten samen leert\, groeit en elkaar ook inspireert en versterkt. Gratis lunch\, gratis outfit\, excursies\, Je vergroot je arbeidskansen en je maakt kennis met ons netwerk. \nMeer informatie in de bijlage https://www.buurthuizenzuidoost.nl/index.php?id=2960 \nAanmelden kan tot uiterlijk 7 december. Vermeld je naam en tel nummer. \n Email: info@stichtingbng.nl\ntelefonisch 06 85 515 248 / 06 23 79 45 74.
URL:https://www.spe-amsterdam.nl/event/empowermenttraining-vrouw-werk-50/
ORGANIZER;CN="Buurvrouwennetwerk%20Gaasperdam":MAILTO:buurvrouwennetwerk@gmail.com
END:VEVENT
END:VCALENDAR