BEGIN:VCALENDAR
VERSION:2.0
PRODID:-//SPE-Amsterdam - ECPv6.1.3//NONSGML v1.0//EN
CALSCALE:GREGORIAN
METHOD:PUBLISH
X-WR-CALNAME:SPE-Amsterdam
X-ORIGINAL-URL:https://www.spe-amsterdam.nl
X-WR-CALDESC:Evenementen voor SPE-Amsterdam
REFRESH-INTERVAL;VALUE=DURATION:PT1H
X-Robots-Tag:noindex
X-PUBLISHED-TTL:PT1H
BEGIN:VTIMEZONE
TZID:Europe/Amsterdam
BEGIN:DAYLIGHT
TZOFFSETFROM:+0100
TZOFFSETTO:+0200
TZNAME:CEST
DTSTART:20220327T010000
END:DAYLIGHT
BEGIN:STANDARD
TZOFFSETFROM:+0200
TZOFFSETTO:+0100
TZNAME:CET
DTSTART:20221030T010000
END:STANDARD
END:VTIMEZONE
BEGIN:VEVENT
DTSTART;TZID=Europe/Amsterdam:20221118T130000
DTEND;TZID=Europe/Amsterdam:20221118T130000
DTSTAMP:20260423T180652
CREATED:20220412T084655Z
LAST-MODIFIED:20220412T084655Z
UID:18729-1668776400-1668776400@www.spe-amsterdam.nl
SUMMARY:Deadline indienen projectplan speerpunt arbeid en zorg
DESCRIPTION:Vrijdag 18 november 13.00 is de deadline voor het indienen van een projectplan binnen het speerpunt arbeid en zorg 2022. Lees meer over de inhoud en procedure van het speerpunt via deze link.
URL:https://www.spe-amsterdam.nl/event/deadline-indienen-projectplan-speerpunt-arbeid-en-zorg/
END:VEVENT
END:VCALENDAR