BEGIN:VCALENDAR
VERSION:2.0
PRODID:-//SPE-Amsterdam - ECPv6.1.3//NONSGML v1.0//EN
CALSCALE:GREGORIAN
METHOD:PUBLISH
X-ORIGINAL-URL:https://www.spe-amsterdam.nl
X-WR-CALDESC:Evenementen voor SPE-Amsterdam
REFRESH-INTERVAL;VALUE=DURATION:PT1H
X-Robots-Tag:noindex
X-PUBLISHED-TTL:PT1H
BEGIN:VTIMEZONE
TZID:Europe/Amsterdam
BEGIN:DAYLIGHT
TZOFFSETFROM:+0100
TZOFFSETTO:+0200
TZNAME:CEST
DTSTART:20220327T010000
END:DAYLIGHT
BEGIN:STANDARD
TZOFFSETFROM:+0200
TZOFFSETTO:+0100
TZNAME:CET
DTSTART:20221030T010000
END:STANDARD
END:VTIMEZONE
BEGIN:VEVENT
DTSTART;TZID=Europe/Amsterdam:20221028T090000
DTEND;TZID=Europe/Amsterdam:20221028T140000
DTSTAMP:20260423T164926
CREATED:20220419T133737Z
LAST-MODIFIED:20220419T133737Z
UID:18756-1666947600-1666965600@www.spe-amsterdam.nl
SUMMARY:Ontwikkelsessie 3 SPE
DESCRIPTION:Op 28 oktober organiseert het SPE de derde ontwikkelsessie van het jaar. Het thema\, de locatie en tijd worden nog bekend gemaakt.
URL:https://www.spe-amsterdam.nl/event/ontwikkelsessie-3-spe/
END:VEVENT
END:VCALENDAR