BEGIN:VCALENDAR
VERSION:2.0
PRODID:-//SPE-Amsterdam - ECPv6.1.3//NONSGML v1.0//EN
CALSCALE:GREGORIAN
METHOD:PUBLISH
X-WR-CALNAME:SPE-Amsterdam
X-ORIGINAL-URL:https://www.spe-amsterdam.nl
X-WR-CALDESC:Evenementen voor SPE-Amsterdam
REFRESH-INTERVAL;VALUE=DURATION:PT1H
X-Robots-Tag:noindex
X-PUBLISHED-TTL:PT1H
BEGIN:VTIMEZONE
TZID:Europe/Amsterdam
BEGIN:DAYLIGHT
TZOFFSETFROM:+0100
TZOFFSETTO:+0200
TZNAME:CEST
DTSTART:20220327T010000
END:DAYLIGHT
BEGIN:STANDARD
TZOFFSETFROM:+0200
TZOFFSETTO:+0100
TZNAME:CET
DTSTART:20221030T010000
END:STANDARD
END:VTIMEZONE
BEGIN:VEVENT
DTSTART;VALUE=DATE:20221010
DTEND;VALUE=DATE:20221017
DTSTAMP:20260423T164927
CREATED:20220929T121634Z
LAST-MODIFIED:20220929T121634Z
UID:18877-1665360000-1665964799@www.spe-amsterdam.nl
SUMMARY:Week van de Mentale Gezondheid
DESCRIPTION:De Amsterdamse week van de mentale gezondheid! Thrive Amsterdam\, een sociale beweging door en voor alle Amsterdammers\, zal deze week door de gehele stad gratis events organiseren om jou te inspireren aan de slag te gaan met je mentale gezondheid. Klik hier voor hun volledige programma!
URL:https://www.spe-amsterdam.nl/event/week-van-de-mentale-gezondheid/
END:VEVENT
END:VCALENDAR