BEGIN:VCALENDAR
VERSION:2.0
PRODID:-//SPE-Amsterdam - ECPv6.1.3//NONSGML v1.0//EN
CALSCALE:GREGORIAN
METHOD:PUBLISH
X-ORIGINAL-URL:https://www.spe-amsterdam.nl
X-WR-CALDESC:Evenementen voor SPE-Amsterdam
REFRESH-INTERVAL;VALUE=DURATION:PT1H
X-Robots-Tag:noindex
X-PUBLISHED-TTL:PT1H
BEGIN:VTIMEZONE
TZID:Europe/Amsterdam
BEGIN:DAYLIGHT
TZOFFSETFROM:+0100
TZOFFSETTO:+0200
TZNAME:CEST
DTSTART:20220327T010000
END:DAYLIGHT
BEGIN:STANDARD
TZOFFSETFROM:+0200
TZOFFSETTO:+0100
TZNAME:CET
DTSTART:20221030T010000
END:STANDARD
END:VTIMEZONE
BEGIN:VEVENT
DTSTART;TZID=Europe/Amsterdam:20220617T130000
DTEND;TZID=Europe/Amsterdam:20220617T130000
DTSTAMP:20260423T110734
CREATED:20220412T083638Z
LAST-MODIFIED:20220412T083638Z
UID:18720-1655470800-1655470800@www.spe-amsterdam.nl
SUMMARY:Deadline indienen projectplan speerpunt seksuele diversiteit
DESCRIPTION:Vrijdag 17 juni is de deadline voor het indienen van een projectplan binnen het speerpunt seksuele diversiteit. Lees meer over de inhoud en de procedure via deze link.
URL:https://www.spe-amsterdam.nl/event/deadline-indienen-projectplan-speerpunt-seksuele-diversiteit/
END:VEVENT
END:VCALENDAR