BEGIN:VCALENDAR
VERSION:2.0
PRODID:-//SPE-Amsterdam - ECPv6.1.3//NONSGML v1.0//EN
CALSCALE:GREGORIAN
METHOD:PUBLISH
X-ORIGINAL-URL:https://www.spe-amsterdam.nl
X-WR-CALDESC:Evenementen voor SPE-Amsterdam
REFRESH-INTERVAL;VALUE=DURATION:PT1H
X-Robots-Tag:noindex
X-PUBLISHED-TTL:PT1H
BEGIN:VTIMEZONE
TZID:Europe/Amsterdam
BEGIN:DAYLIGHT
TZOFFSETFROM:+0100
TZOFFSETTO:+0200
TZNAME:CEST
DTSTART:20220327T010000
END:DAYLIGHT
BEGIN:STANDARD
TZOFFSETFROM:+0200
TZOFFSETTO:+0100
TZNAME:CET
DTSTART:20221030T010000
END:STANDARD
END:VTIMEZONE
BEGIN:VEVENT
DTSTART;TZID=Europe/Amsterdam:20220520T100000
DTEND;TZID=Europe/Amsterdam:20220520T140000
DTSTAMP:20260423T094849
CREATED:20220421T113002Z
LAST-MODIFIED:20220512T151213Z
UID:18764-1653040800-1653055200@www.spe-amsterdam.nl
SUMMARY:Kennissessie SPE: seksueel grensoverschrijdend gedrag
DESCRIPTION:Datum: Vrijdag 20 mei\nLocatie: De Boomsspijker (Recht Boomssloot 52) Amsterdam\nInloop: 9:30 – 10.00\nProgramma: 10.00 – 13.00\nLunch: 13:00 – 14.00We nodigen je van harte uit om deel te nemen aan de eerste kennissessie van dit jaar\, die in het teken zal staan van seksueel grensoverschrijdend gedrag. De afgelopen tijd hebben we veel signalen opgevangen uit het veld over dit thema. Deze signalen zijn de basis geweest voor het inrichten van deze sessie. \nDe ochtend zal bestaan uit twee hoofdonderdelen: een panelgesprek en een interactieve workshop. We sluiten af met een gezamenlijke lunch. \n\n\nPanelgesprek \nWe gaan in gesprek over: wat is seksueel grensoverschrijdend gedrag? Welke factoren dragen bij aan het taboe eromheen? en welke rol spelen mannen in dit thema? Het panel zal bestaan uit: \n\nSara Alaoui Dekker van Stichting Together We Rise. Sara is ervaringsdeskundige en biedt met haar organisatie training en begeleiding van lotgenoten. Zij weet als geen ander hoe moeilijk de weg naar hulp kan zijn.\nStichting Emancipator zet zich in voor mannenemancipatie door de zorgzame kant van mannen te stimuleren en de gewelddadige kant te voorkomen. Door campagnes\, projecten en activiteiten proberen ze de klassieke ideeën over mannen en vrouwen te doorbreken.\nCindy de Koning is netwerkspecialist in de regio Amsterdam met als expertise seksuele intimidatie. In haar werk komt komt zij in aanraking met de thema’s seksueel misbruik\, uitbuiting en grensoverschrijdend gedrag. Binnen en buiten de politie creëert ze speciale aandacht voor meisjes en vrouwen.\n\n\nWorkshop\nIn de workshop kijken we naar wat vrouwenorganisaties kunnen doen. Hoe ga je het gesprek aan met je achterban? Hoe kun je slachtoffers ondersteunen?\n\n\nDeelname is gratis\, je kunt alleen deelnemen aan het gehele dagprogramma. Wil jij hierbij aanwezig zijn? Meld je dan snel aan door te mailen naar info@spe-amsterdam.nl \nWe zien jullie allemaal heel graag 20 mei! \n\nHet SPE-Team
URL:https://www.spe-amsterdam.nl/event/kennissessie-spe-seksueel-grensoverschrijdend-gedrag/
END:VEVENT
END:VCALENDAR