BEGIN:VCALENDAR
VERSION:2.0
PRODID:-//SPE-Amsterdam - ECPv6.1.3//NONSGML v1.0//EN
CALSCALE:GREGORIAN
METHOD:PUBLISH
X-WR-CALNAME:SPE-Amsterdam
X-ORIGINAL-URL:https://www.spe-amsterdam.nl
X-WR-CALDESC:Evenementen voor SPE-Amsterdam
REFRESH-INTERVAL;VALUE=DURATION:PT1H
X-Robots-Tag:noindex
X-PUBLISHED-TTL:PT1H
BEGIN:VTIMEZONE
TZID:Europe/Amsterdam
BEGIN:DAYLIGHT
TZOFFSETFROM:+0100
TZOFFSETTO:+0200
TZNAME:CEST
DTSTART:20220327T010000
END:DAYLIGHT
BEGIN:STANDARD
TZOFFSETFROM:+0200
TZOFFSETTO:+0100
TZNAME:CET
DTSTART:20221030T010000
END:STANDARD
END:VTIMEZONE
BEGIN:VEVENT
DTSTART;TZID=Europe/Amsterdam:20220514T170000
DTEND;TZID=Europe/Amsterdam:20220514T190000
DTSTAMP:20260423T094851
CREATED:20220304T162154Z
LAST-MODIFIED:20220304T162154Z
UID:18622-1652547600-1652554800@www.spe-amsterdam.nl
SUMMARY:Workshop opvoedstijlen en de rol van religie en cultuur
DESCRIPTION:Op 14 mei organiseert Stichting Aknarij een workshop opvoedstijlen en de rol van cultuur en religie daarin.
URL:https://www.spe-amsterdam.nl/event/workshop-opvoedstijlen-en-de-rol-van-religie-en-cultuur/
END:VEVENT
END:VCALENDAR