BEGIN:VCALENDAR
VERSION:2.0
PRODID:-//SPE-Amsterdam - ECPv6.1.3//NONSGML v1.0//EN
CALSCALE:GREGORIAN
METHOD:PUBLISH
X-WR-CALNAME:SPE-Amsterdam
X-ORIGINAL-URL:https://www.spe-amsterdam.nl
X-WR-CALDESC:Evenementen voor SPE-Amsterdam
REFRESH-INTERVAL;VALUE=DURATION:PT1H
X-Robots-Tag:noindex
X-PUBLISHED-TTL:PT1H
BEGIN:VTIMEZONE
TZID:Europe/Amsterdam
BEGIN:DAYLIGHT
TZOFFSETFROM:+0100
TZOFFSETTO:+0200
TZNAME:CEST
DTSTART:20220327T010000
END:DAYLIGHT
BEGIN:STANDARD
TZOFFSETFROM:+0200
TZOFFSETTO:+0100
TZNAME:CET
DTSTART:20221030T010000
END:STANDARD
END:VTIMEZONE
BEGIN:VEVENT
DTSTART;TZID=Europe/Amsterdam:20220507T170000
DTEND;TZID=Europe/Amsterdam:20220507T190000
DTSTAMP:20260423T094836
CREATED:20220304T162039Z
LAST-MODIFIED:20220304T162039Z
UID:18620-1651942800-1651950000@www.spe-amsterdam.nl
SUMMARY:Filmavond 'Razia' - Leven en overleven met verschillende identiteiten
DESCRIPTION:Op 7 mei organiseert Stichting Aknarij een filmavond met de Marokkaanse speelfilm Razia: leven en overleven met verschillende identiteiten
URL:https://www.spe-amsterdam.nl/event/filmavond-razia-leven-en-overleven-met-verschillende-identiteiten/
END:VEVENT
END:VCALENDAR