BEGIN:VCALENDAR
VERSION:2.0
PRODID:-//SPE-Amsterdam - ECPv6.1.3//NONSGML v1.0//EN
CALSCALE:GREGORIAN
METHOD:PUBLISH
X-ORIGINAL-URL:https://www.spe-amsterdam.nl
X-WR-CALDESC:Evenementen voor SPE-Amsterdam
REFRESH-INTERVAL;VALUE=DURATION:PT1H
X-Robots-Tag:noindex
X-PUBLISHED-TTL:PT1H
BEGIN:VTIMEZONE
TZID:Europe/Amsterdam
BEGIN:DAYLIGHT
TZOFFSETFROM:+0100
TZOFFSETTO:+0200
TZNAME:CEST
DTSTART:20220327T010000
END:DAYLIGHT
BEGIN:STANDARD
TZOFFSETFROM:+0200
TZOFFSETTO:+0100
TZNAME:CET
DTSTART:20221030T010000
END:STANDARD
END:VTIMEZONE
BEGIN:VEVENT
DTSTART;TZID=Europe/Amsterdam:20220430T170000
DTEND;TZID=Europe/Amsterdam:20220430T190000
DTSTAMP:20260423T082124
CREATED:20220304T161841Z
LAST-MODIFIED:20220304T161841Z
UID:18618-1651338000-1651345200@www.spe-amsterdam.nl
SUMMARY:Workshop machogedrag\, groepsdruk en huiselijk geweld
DESCRIPTION:Op 30 april organiseert Stichting Aknarij een workshop machogedrag\, groepsdruk en huiselijk geweld.
URL:https://www.spe-amsterdam.nl/event/workshop-machogedrag-groepsdruk-en-huiselijk-geweld/
END:VEVENT
END:VCALENDAR