BEGIN:VCALENDAR
VERSION:2.0
PRODID:-//SPE-Amsterdam - ECPv6.1.3//NONSGML v1.0//EN
CALSCALE:GREGORIAN
METHOD:PUBLISH
X-ORIGINAL-URL:https://www.spe-amsterdam.nl
X-WR-CALDESC:Evenementen voor SPE-Amsterdam
REFRESH-INTERVAL;VALUE=DURATION:PT1H
X-Robots-Tag:noindex
X-PUBLISHED-TTL:PT1H
BEGIN:VTIMEZONE
TZID:Europe/Amsterdam
BEGIN:DAYLIGHT
TZOFFSETFROM:+0100
TZOFFSETTO:+0200
TZNAME:CEST
DTSTART:20220327T010000
END:DAYLIGHT
BEGIN:STANDARD
TZOFFSETFROM:+0200
TZOFFSETTO:+0100
TZNAME:CET
DTSTART:20221030T010000
END:STANDARD
END:VTIMEZONE
BEGIN:VEVENT
DTSTART;TZID=Europe/Amsterdam:20220313T100000
DTEND;TZID=Europe/Amsterdam:20220313T140000
DTSTAMP:20260423T070021
CREATED:20220311T125631Z
LAST-MODIFIED:20220311T125631Z
UID:18664-1647165600-1647180000@www.spe-amsterdam.nl
SUMMARY:Tuin Klusdag Groei & Bloei
DESCRIPTION:Op vrijdag 13 maart organiseert het Oranje Fonds NLDOET: de grootste vrijwilligersactie van Nederland.\nWij gaan onze tuin lente klaar maken.\nDOE JE MEE?\nEen dag om lekker je handen uit de mouwen te steken en frisse lentelucht weer in te ademen. En kennis te maken met Bloei & Groei: en zie jij een moestuintje ook wel zitten? \nHet is tijd om de Venserpoldertuin uit zijn winterslaap te ontwaken en alles weer klaar te maken voor een mooi nieuwe tuinseizoen.\n– We gaan onze pallet bankjes (af)timmeren en verven.\n– Een voedselbos aanplanten in de tuin.\n– Tuinkast in elkaar zetten.\n– Zaai bedden in orde maken en alvast voorzaaien.\nZodat de plantjes in onze kas alvast kunnen gaan groeien 
URL:https://www.spe-amsterdam.nl/event/tuin-klusdag-groei-bloei/
LOCATION:Albert Camuslaan 36\, Albert Camuslaan 36\, Amsterdam
END:VEVENT
END:VCALENDAR