BEGIN:VCALENDAR
VERSION:2.0
PRODID:-//SPE-Amsterdam - ECPv6.1.3//NONSGML v1.0//EN
CALSCALE:GREGORIAN
METHOD:PUBLISH
X-WR-CALNAME:SPE-Amsterdam
X-ORIGINAL-URL:https://www.spe-amsterdam.nl
X-WR-CALDESC:Evenementen voor SPE-Amsterdam
REFRESH-INTERVAL;VALUE=DURATION:PT1H
X-Robots-Tag:noindex
X-PUBLISHED-TTL:PT1H
BEGIN:VTIMEZONE
TZID:Europe/Amsterdam
BEGIN:DAYLIGHT
TZOFFSETFROM:+0100
TZOFFSETTO:+0200
TZNAME:CEST
DTSTART:20220327T010000
END:DAYLIGHT
BEGIN:STANDARD
TZOFFSETFROM:+0200
TZOFFSETTO:+0100
TZNAME:CET
DTSTART:20221030T010000
END:STANDARD
END:VTIMEZONE
BEGIN:VEVENT
DTSTART;TZID=Europe/Amsterdam:20220311T100000
DTEND;TZID=Europe/Amsterdam:20220311T120000
DTSTAMP:20260423T070023
CREATED:20220303T113012Z
LAST-MODIFIED:20220303T113012Z
UID:18567-1646992800-1647000000@www.spe-amsterdam.nl
SUMMARY:Eritrese Koffieceremonie Nieuw West
DESCRIPTION:Van 7 t/m 11 maart wordt Vrouwendag 2022 gevierd met een week vol activiteiten in Nieuw West. Bekijk het programma hieronder.
URL:https://www.spe-amsterdam.nl/event/eritrese-koffieceremonie-nieuw-west/
END:VEVENT
BEGIN:VEVENT
DTSTART;TZID=Europe/Amsterdam:20220311T130000
DTEND;TZID=Europe/Amsterdam:20220311T210000
DTSTAMP:20260423T070023
CREATED:20220310T081444Z
LAST-MODIFIED:20220310T081444Z
UID:18659-1647003600-1647032400@www.spe-amsterdam.nl
SUMMARY:Internationale vrouwendag Stichting Cleopatra
DESCRIPTION:International Women’s Day\nVrijdag 11 maart is er vanaf 13.00 een programma in het teken van internationale vrouwendag bij Stichting Cleopatra. In het Huis van de Wijk\, Bezaanjachtplein 243 is er vanaf 13.00 een beautydag met henna\, gezichtsbehandeling\, massage\, een kapper en internationale bazaar. Vanaf 17.30 is er een vrouwenparty met multiculturele muziek\, dansen\, hapjes en drankjes.
URL:https://www.spe-amsterdam.nl/event/internationale-vrouwendag-stichting-cleopatra/
LOCATION:Bezaanjachtplei 243\, Bezaanjachtplein 243\, Amsterdam
END:VEVENT
END:VCALENDAR