BEGIN:VCALENDAR
VERSION:2.0
PRODID:-//SPE-Amsterdam - ECPv6.1.3//NONSGML v1.0//EN
CALSCALE:GREGORIAN
METHOD:PUBLISH
X-ORIGINAL-URL:https://www.spe-amsterdam.nl
X-WR-CALDESC:Evenementen voor SPE-Amsterdam
REFRESH-INTERVAL;VALUE=DURATION:PT1H
X-Robots-Tag:noindex
X-PUBLISHED-TTL:PT1H
BEGIN:VTIMEZONE
TZID:Europe/Amsterdam
BEGIN:DAYLIGHT
TZOFFSETFROM:+0100
TZOFFSETTO:+0200
TZNAME:CEST
DTSTART:20220327T010000
END:DAYLIGHT
BEGIN:STANDARD
TZOFFSETFROM:+0200
TZOFFSETTO:+0100
TZNAME:CET
DTSTART:20221030T010000
END:STANDARD
END:VTIMEZONE
BEGIN:VEVENT
DTSTART;TZID=Europe/Amsterdam:20220310T100000
DTEND;TZID=Europe/Amsterdam:20220310T120000
DTSTAMP:20260423T070021
CREATED:20220303T112653Z
LAST-MODIFIED:20220303T112719Z
UID:18565-1646906400-1646913600@www.spe-amsterdam.nl
SUMMARY:Kruidenthee maken in het Kruidenatelier van Zoubida
DESCRIPTION:Van 7 t/m 11 maart wordt Vrouwendag 2022 gevierd met een week vol activiteiten in Nieuw West. Bekijk het programma hieronder.
URL:https://www.spe-amsterdam.nl/event/kruidenthee-maken-in-het-kruidenatelier-van-zoubida/
END:VEVENT
END:VCALENDAR