BEGIN:VCALENDAR
VERSION:2.0
PRODID:-//SPE-Amsterdam - ECPv6.1.3//NONSGML v1.0//EN
CALSCALE:GREGORIAN
METHOD:PUBLISH
X-ORIGINAL-URL:https://www.spe-amsterdam.nl
X-WR-CALDESC:Evenementen voor SPE-Amsterdam
REFRESH-INTERVAL;VALUE=DURATION:PT1H
X-Robots-Tag:noindex
X-PUBLISHED-TTL:PT1H
BEGIN:VTIMEZONE
TZID:Europe/Amsterdam
BEGIN:DAYLIGHT
TZOFFSETFROM:+0100
TZOFFSETTO:+0200
TZNAME:CEST
DTSTART:20220327T010000
END:DAYLIGHT
BEGIN:STANDARD
TZOFFSETFROM:+0200
TZOFFSETTO:+0100
TZNAME:CET
DTSTART:20221030T010000
END:STANDARD
END:VTIMEZONE
BEGIN:VEVENT
DTSTART;TZID=Europe/Amsterdam:20220309T100000
DTEND;TZID=Europe/Amsterdam:20220309T120000
DTSTAMP:20260423T070020
CREATED:20220303T112529Z
LAST-MODIFIED:20220303T112529Z
UID:18563-1646820000-1646827200@www.spe-amsterdam.nl
SUMMARY:Voorstelling van het Verhalen Atelier in Nieuw West
DESCRIPTION:Van 7 t/m 11 maart wordt Vrouwendag 2022 gevierd met een week vol activiteiten in Nieuw West. Bekijk het programma hieronder.
URL:https://www.spe-amsterdam.nl/event/voorstelling-van-het-verhalen-atelier-in-nieuw-west/
END:VEVENT
BEGIN:VEVENT
DTSTART;TZID=Europe/Amsterdam:20220309T123000
DTEND;TZID=Europe/Amsterdam:20220309T203000
DTSTAMP:20260423T070020
CREATED:20220303T111503Z
LAST-MODIFIED:20220303T111503Z
UID:18555-1646829000-1646857800@www.spe-amsterdam.nl
SUMMARY:Vrouwendag in West
DESCRIPTION:Vrouwendag in West\n\n\n\n\n\n\n\n\n\n\n\n\n\nJaarlijks wordt wereldwijd op 8 maart de Internationale Vrouwendag gevierd. Een speciale dag waarbij vrouwen en gelijkwaardigheid in de samenleving centraal staan. Op dinsdag 8 maart én woensdag 9 maart staat stadsdeel West stil bij deze dag. \n\n\nOok in 2022 is het Internationale Vrouwendag een belangrijke dag. Gendergelijkheid is nog altijd niet de norm; volgens het Global Gender Gap Report (PDF) van het World Economic Forum staat Nederland op de 31e plek als het hierom gaat. \nToespraak\nOp dinsdag 8 maart om 14.30 uur zal stadsdeelvoorzitter Fenna Ulichki een toespraak houden over vrouwenrechten bij het Jacoba van Tongeren standbeeld op het Antillenplein. Hierbij zal ook worden stil gestaan bij het verhaal van verzetsheld Jacoba van Tongeren\, en haar rol als vrouw in de Tweede Wereldoorlog. \nBijeenkomsten\nAan de hand van het thema ‘In het hier en nu’ worden 4 bijeenkomsten georganiseerd in de buurten van West. Vrouwen zijn welkom op een locatie en tijdstip naar keuze. \nIedere bijeenkomst bestaat uit een inspirerend verhaal van een gastspreker\, ruimte voor gesprek en een cursus timemanagement. De bijeenkomsten worden afgesloten met een hapje en drankje. \nWilt u erbij zijn? Meld u zich dan aan. De bijeenkomsten zijn gratis. \n8 maart\n\n09.30 – 12.30 uur Van Limburg Stirumstraat 133\n17.00 – 20.30 uur Tagerijn\, Balbaostraat 18\n\n9 maart\n\n12.30 – 15.30 uur J.J. Cremerplein 27a\n17.00 – 20.30 uur Mansveltschool\, Karel Doormanstraat 125\n\nWilt u meer weten over de bijeenkomsten of zich aanmelden? Neem dan contact op met Productielab via e-mailadres info@productielab.nl of telefoonnummer 06 – 1137 8105.
URL:https://www.spe-amsterdam.nl/event/vrouwendag-in-west-2/
END:VEVENT
BEGIN:VEVENT
DTSTART;TZID=Europe/Amsterdam:20220309T193000
DTEND;TZID=Europe/Amsterdam:20220309T210000
DTSTAMP:20260423T070020
CREATED:20220307T144003Z
LAST-MODIFIED:20220307T144003Z
UID:18654-1646854200-1646859600@www.spe-amsterdam.nl
SUMMARY:Debat: Amsterdam 2050 - visie op de toekomst
DESCRIPTION:Op 16 maart wordt de nieuwe gemeenteraad verkozen. In samenwerking met Argan nodigen we de kandidaten van de grootst gepeilde partijen uit om in debat te gaan over hun toekomstvisie voor Amsterdam. Hoe zal de stad er over drie decennia uitzien qua veiligheid en economie? Ook vragen we Amsterdammers om hun langetermijnverlangens voor de stad met ons te delen. \nOnze hoofdstad wordt inmiddels gekenmerkt door de criminaliteit die uit de cocaïnehandel voortkomt. Sinds 2016 is Amsterdam door een aaneenschakeling van liquidaties en andere drugsgerelateerde incidenten opgeschrikt\, met als dieptepunt de moorden op advocaat Derk Wiersum en meer recent op misdaadverslaggever Peter R. de Vries. Dat de onderwereld steeds meer invloed op de bovenwereld krijgt\, heeft het predicaat ‘narcostad’ opgeleverd. \nVoeg het toenemende aantal wapenincidenten erbij\, met name onder minderjarigen\, en je kunt zeggen dat de veiligheid in het geding is. Intussen loopt er – na een jarenlange discussie – een proef met preventief fouilleren en naast cameratoezicht in de publieke ruimte wordt er met slimme sensoren geëxperimenteerd\, die bij verdacht geluid een melding naar de politie versturen. Wat zullen de uitdagingen van later zijn en wat is er nodig én geoorloofd om onze veiligheid te vergroten? Hoe kan het stadsbestuur de strijd tegen de criminaliteit winnen? \nMet de economie gaat het daarentegen goed; volgens actuele prognoses van de Rabobank is Groot-Amsterdam de regio met de meeste verwachte groei. In de voorbije vijf jaar verdubbelde hier het aantal miljonairs en zo kan één op de 23 Amsterdamse huishoudens zich miljonair noemen. Zal de hoofdstad in de toekomst alleen betaalbaar zijn voor wie bovenmodaal verdient? \nEn staat economische groei ook dan nog voor méér beschikbare banen? De robotrevolutie is door corona in een stroomversnelling gekomen en naar verwachting is in 2025 bijna de helft van ons werk geautomatiseerd. Dat zal leiden tot meer werkgelegenheid\, maar zullen vraag en aanbod op elkaar aansluiten? Het digitale tijdperk zal immers andere eisen aan werkzoekenden stellen. \nAmsterdammers \nWat zijn de zorgen van Amsterdammers\, als het gaat om de veiligheid in hun eigen wijken. Voelen zij zich nog wel veilig in de stad? Op welke wijze worden zij geraakt door de criminaliteit in de stad\, en het stigma dat kleeft aan hun eigen wijken? En wat verwachten zij van de toekomst op financieel vlak? Is er in de toekomst nog plaats voor hen in de stad en zullen zij ook van de verwachte groei van Amsterdam profiteren? \nTijdens deze avond komen Amsterdammers aan het woord en naast hun zorgen en verwachtingen\, delen zij ook kun wensen en verlangens voor de stad met ons. \nAan het woord komen onder anderen: \nBianca Tjon a Koy \nSamen met andere bezorgde moeders\, richtte Bianca Tjon a Koy de ‘Zuidoost Safety Movement’ op\, nadat hun kinderen met wapens werden bedreigd om waardevolle spullen af te staan. Sindsdien bestaat er een samenwerking met de politie\, justitie en het stadsdeel Zuidoost. \nTerra Dakota Stein \nSamen met andere bewoners uit Noord vormt Terra Dakota Stein de groep ‘Verdedig Noord’. Door middel van kunst\, onderwijsprogramma’s en acties strijden de bewoners tegen de gentrificatie en de in rap tempo veranderende wijken in hun stadsdeel. \nSPREKERS\n\n  \n\nAugusto de Campos Neto\nAugusto heeft na zijn studie communicatiewetenschappen vijf jaar gewerkt als recruiter en daarna drie jaar als beleidsmedewerker Kunst & Cultuur en de negen jaar erna als adviseur Openbare Orde en Veiligheid. Sinds 2017 is hij senior adviseur bij de Expertise Unit Sociale Stabiliteit van het ministerie van Sociale Zaken. Als Spoken Word artiest heeft hij op menig podia gestaan\, is hij zanger bij The Liquid Sun Orchestra en was hij presentator voor het tv programma SchoolTV Aktueel. \n  \nSofyan Mbarki\nSofyan Mbarki is kandidaat gemeenteraadslid Partij van de Arbeid. Hij is momenteel fractievoorzitter van de gemeenteraadsfractie van de PvdA en werkt als trainer en Adviseur onder andere in het onderwijs. \n  \n  \nImane Nadif\nImane Nadif is kandidaat gemeenteraadslid GroenLinks. Ze is momenteel gemeenteraadslid in Amsterdam. Nadif is als raadslid verantwoordelijk voor onder andere economische zaken\, kunst & cultuur\, afval\, circulaire economie en luchtvaart. \n\n  \n  \n\n \n  \nDaniëlle de Jager\nDaniëlle is Kandidaat Gemeenteraadslid bij D66 Amsterdam. Ze is econoom en heeft voorheen bij het ministerie van Financiën en de Tweede Kamerfractie van D66 gewerkt. \n\n  \n  \n  \n\n \n  \nDaan Wijnants\nDaan Wijnants is Kandidaat Gemeenteraadslid bij de Amsterdamse VVD. \n  \n  \n\n  \n  \nFarid Tabarki\nFarid Tabarki schrijft geregeld voor Het Financieele Dagblad en is auteur van het boek ‘Het Einde van het Midden – Wat een maatschappij van extremen betekent voor mens\, bedrijf en politiek’. Naast voormalig tv-presentator is Farid commissaris bij woningcorporatie Stadgenoot en lid van de raad van toezicht van Internationaal Theater Amsterdam. Volgens De Volkskrant is Farid één van de tweehonderd meest invloedrijke Nederlanders. Hij is oprichter van Studio Zeitgeist. Samen met zijn studiogenoten heeft hij al bij vele organisaties de omwenteling naar een Vloeibare Organisatie mogen realiseren. \n  \n  \n  \nMODERATOR \nMartijn de Greve is gespreksleider en presentator\, gespecialiseerd in politieke en maatschappelijke debatten. \n  \n  \n  \n  \n  \n  \nDit programma wordt in samenwerking met Argan georganiseerd
URL:https://www.spe-amsterdam.nl/event/debat-amsterdam-2050-visie-op-de-toekomst/
END:VEVENT
END:VCALENDAR