BEGIN:VCALENDAR
VERSION:2.0
PRODID:-//SPE-Amsterdam - ECPv6.1.3//NONSGML v1.0//EN
CALSCALE:GREGORIAN
METHOD:PUBLISH
X-ORIGINAL-URL:https://www.spe-amsterdam.nl
X-WR-CALDESC:Evenementen voor SPE-Amsterdam
REFRESH-INTERVAL;VALUE=DURATION:PT1H
X-Robots-Tag:noindex
X-PUBLISHED-TTL:PT1H
BEGIN:VTIMEZONE
TZID:Europe/Amsterdam
BEGIN:DAYLIGHT
TZOFFSETFROM:+0100
TZOFFSETTO:+0200
TZNAME:CEST
DTSTART:20220327T010000
END:DAYLIGHT
BEGIN:STANDARD
TZOFFSETFROM:+0200
TZOFFSETTO:+0100
TZNAME:CET
DTSTART:20221030T010000
END:STANDARD
END:VTIMEZONE
BEGIN:VEVENT
DTSTART;TZID=Europe/Amsterdam:20220306T110000
DTEND;TZID=Europe/Amsterdam:20220306T150000
DTSTAMP:20260423T052705
CREATED:20220307T110343Z
LAST-MODIFIED:20220307T110343Z
UID:18630-1646564400-1646578800@www.spe-amsterdam.nl
SUMMARY:Pleinkamer in Geuzenveld
DESCRIPTION:Op dinsdag 8 maart is het weer Internationale Vrouwendag. Een dag waar wereldwijd gelijke rechten en kansen\, vrijheid en strijdbaarheid van vrouwen centraal staan. In 2022 is het thema: Solidariteit\, de kracht voor verandering. \n\n\nIn Nieuw-West zijn er verschillende activiteiten voor vrouwen. \nPleinkamer in Geuzenveld\nIn de pleinkamer in Geuzenveld zijn er workshops over solidariteit\, overwinnen van beperkende gedachten en solidair zijn met jezelf. Verder is er live muziek\, eten & drinken en nog veel meer. \n\nZondag 6 maart 2022\nTijd: 11:00-15.00 uur\nLocatie: De pleinkamer Lambertus Zijlplein 7\nAanmelden: info@meet.amsterdam.nl
URL:https://www.spe-amsterdam.nl/event/pleinkamer-in-geuzenveld/
LOCATION:De pleinkamer\, Lambertus Zijlplein 7\, Amsterdam
END:VEVENT
BEGIN:VEVENT
DTSTART;TZID=Europe/Amsterdam:20220306T160000
DTEND;TZID=Europe/Amsterdam:20220306T193000
DTSTAMP:20260423T052705
CREATED:20220228T090353Z
LAST-MODIFIED:20220228T090353Z
UID:18520-1646582400-1646595000@www.spe-amsterdam.nl
SUMMARY:Viering Internationale Vrouwendag Assadaaka Community
DESCRIPTION:Op zondag 6 maart viert Assadaaka Community alvast de Internationale Vrouwendag. Het wordt een feestelijke dag\, met theater\, poëzie\, hapjes\, muziek en vooral veel gezelligheid. Dat is in tijden van corona extra belangrijk! Meld u graag vooraf aan. Graag vieren zij deze belangrijke dag met u samen\, met mannen en vrouwen\, iedereen is welkom. \nWant internationale vrouwendag gaat niet alleen over vrouwen\, het gaat over gelijkheid. En gelijkheid doe je samen! Dit jaar is het thema Solidariteit – de kracht voor verandering. Wat betekent solidariteit en gelijkheid voor jou? \nKom langs en vier samen met ons Internationale Vrouwendag op zondag 6 maart\, want bij Assadaaka Community is dit een feestelijke dag voor iedereen! \nAanmelden kan bij Ahmed El Mesri\, bereikbaar via 0647440672 en info@assadaaka.nl
URL:https://www.spe-amsterdam.nl/event/viering-internationale-vrouwendag-assadaaka-community/
LOCATION:Assadaaka Community\, Polderweg 300\, Wethouder Verheijhal\, 1e etage\, Amsterdam\, Noord-Holland\, 1093 KP\, Nederland
END:VEVENT
END:VCALENDAR