BEGIN:VCALENDAR
VERSION:2.0
PRODID:-//SPE-Amsterdam - ECPv6.1.3//NONSGML v1.0//EN
CALSCALE:GREGORIAN
METHOD:PUBLISH
X-WR-CALNAME:SPE-Amsterdam
X-ORIGINAL-URL:https://www.spe-amsterdam.nl
X-WR-CALDESC:Evenementen voor SPE-Amsterdam
REFRESH-INTERVAL;VALUE=DURATION:PT1H
X-Robots-Tag:noindex
X-PUBLISHED-TTL:PT1H
BEGIN:VTIMEZONE
TZID:Europe/Amsterdam
BEGIN:DAYLIGHT
TZOFFSETFROM:+0100
TZOFFSETTO:+0200
TZNAME:CEST
DTSTART:20220327T010000
END:DAYLIGHT
BEGIN:STANDARD
TZOFFSETFROM:+0200
TZOFFSETTO:+0100
TZNAME:CET
DTSTART:20221030T010000
END:STANDARD
END:VTIMEZONE
BEGIN:VEVENT
DTSTART;TZID=Europe/Amsterdam:20220303T193000
DTEND;TZID=Europe/Amsterdam:20220303T220000
DTSTAMP:20260423T052457
CREATED:20220228T130733Z
LAST-MODIFIED:20220228T130733Z
UID:18522-1646335800-1646344800@www.spe-amsterdam.nl
SUMMARY:Maak jouw protestbord voor de Women’s March
DESCRIPTION:Ter voorbereiding van de Women’s March organiseren Women’s March & ActionAid een gratis protesborden avond. Kom ook\, zodat we tijdens de Women’s March kunnen shinen! \nAanmelden \nDatum: donderdag 3 maart\nLocatie: Melkweg\, Amsterdam\nTijd: 19.30 – 22.00 uur\n \nProtestborden maken\nOp 3 maart gaan we protestborden maken om mee te nemen naar de Women’s March! Voor materialen wordt gezorgd\, maar neem vooral extra karton mee als je dat hebt liggen. Er zullen ook snacks en wat te drinken aanwezig zijn. \nMeld je snel aan\, want de plekken zijn beperkt! \nJe kunt ook op zaterdagochtend 5 maart protestborden maken in Paradiso. \nWomen’s March 2022: TIME IS UP!\nLoop mee en join Atria bij het Stop Femicide!-blok waarbij we aandacht vragen voor onze petitie STOP femicide! Kom massaal naar de Dam en laat Nederland zien dat gendergerelateerd geweld nú aangepakt moet worden! \n\nVerzamelpunt Stop Femicide!-blok: Monument op de Dam\nRoute: Van de Dam naar het Museumplein\nDatum: 5 maart\, 2022\nTijd: 12:00 (om 12:30 begint de March)
URL:https://www.spe-amsterdam.nl/event/maak-jouw-protestbord-voor-de-womens-march/
LOCATION:Melkweg Cafe\, Marnixstraat 409\, Amsterdam\, 1017PH\, Nederland
END:VEVENT
END:VCALENDAR