BEGIN:VCALENDAR
VERSION:2.0
PRODID:-//SPE-Amsterdam - ECPv6.1.3//NONSGML v1.0//EN
CALSCALE:GREGORIAN
METHOD:PUBLISH
X-ORIGINAL-URL:https://www.spe-amsterdam.nl
X-WR-CALDESC:Evenementen voor SPE-Amsterdam
REFRESH-INTERVAL;VALUE=DURATION:PT1H
X-Robots-Tag:noindex
X-PUBLISHED-TTL:PT1H
BEGIN:VTIMEZONE
TZID:Europe/Amsterdam
BEGIN:DAYLIGHT
TZOFFSETFROM:+0100
TZOFFSETTO:+0200
TZNAME:CEST
DTSTART:20220327T010000
END:DAYLIGHT
BEGIN:STANDARD
TZOFFSETFROM:+0200
TZOFFSETTO:+0100
TZNAME:CET
DTSTART:20221030T010000
END:STANDARD
END:VTIMEZONE
BEGIN:VEVENT
DTSTART;TZID=Europe/Amsterdam:20220217T080000
DTEND;TZID=Europe/Amsterdam:20220217T170000
DTSTAMP:20260423T052502
CREATED:20220217T211557Z
LAST-MODIFIED:20220217T211557Z
UID:18514-1645084800-1645117200@www.spe-amsterdam.nl
SUMMARY:Women's March 2022: TIME IS UP!
DESCRIPTION:Op zaterdag 5 maart maart vindt er een nieuwe editie van de Women’s March plaats in Amsterdam. Het weekend in aanloop naar Internationale Vrouwendag gaan we opnieuw met zoveel mogelijk mensen de straat op om een collectief geluid te laten horen. De regering bestaat immers nog steeds uit dezelfde gezichten. Zelfbeschikking en de veiligheid van vrouwen worden nog steeds niet serieus genoeg genomen in Nederland. En daarom komen we dit voorjaar terug: TIME IS UP! \nSluit je aan en demonstreer mee om het belang van onder meer seksuele en reproductieve rechten\, het klimaat en de aankomende gemeenteraadsverkiezingen onder de aandacht te brengen en een vuist te maken tegen geweld en seksueel grensoverschrijdend gedrag. \nKijk hier voor meer informatie: https://womensmarchnederland.nl/march-2022/
URL:https://www.spe-amsterdam.nl/event/womens-march-2022-time-is-up/
END:VEVENT
END:VCALENDAR