BEGIN:VCALENDAR
VERSION:2.0
PRODID:-//SPE-Amsterdam - ECPv6.1.3//NONSGML v1.0//EN
CALSCALE:GREGORIAN
METHOD:PUBLISH
X-WR-CALNAME:SPE-Amsterdam
X-ORIGINAL-URL:https://www.spe-amsterdam.nl
X-WR-CALDESC:Evenementen voor SPE-Amsterdam
REFRESH-INTERVAL;VALUE=DURATION:PT1H
X-Robots-Tag:noindex
X-PUBLISHED-TTL:PT1H
BEGIN:VTIMEZONE
TZID:Europe/Amsterdam
BEGIN:DAYLIGHT
TZOFFSETFROM:+0100
TZOFFSETTO:+0200
TZNAME:CEST
DTSTART:20220327T010000
END:DAYLIGHT
BEGIN:STANDARD
TZOFFSETFROM:+0200
TZOFFSETTO:+0100
TZNAME:CET
DTSTART:20221030T010000
END:STANDARD
END:VTIMEZONE
BEGIN:VEVENT
DTSTART;TZID=Europe/Amsterdam:20220215T090000
DTEND;TZID=Europe/Amsterdam:20220215T113000
DTSTAMP:20260423T052457
CREATED:20220211T152823Z
LAST-MODIFIED:20220211T152823Z
UID:18495-1644915600-1644924600@www.spe-amsterdam.nl
SUMMARY:Gratis training tot trainer
DESCRIPTION:Belangrijk! In de flyer staat dat het programma start op 8 februari\, maar je kunt nog meedoen. 
URL:https://www.spe-amsterdam.nl/event/gratis-training-tot-trainer/
LOCATION:Oost\, Archipel Makassarplein 1\, Amsterdam
END:VEVENT
END:VCALENDAR