BEGIN:VCALENDAR
VERSION:2.0
PRODID:-//SPE-Amsterdam - ECPv6.1.3//NONSGML v1.0//EN
CALSCALE:GREGORIAN
METHOD:PUBLISH
X-ORIGINAL-URL:https://www.spe-amsterdam.nl
X-WR-CALDESC:Evenementen voor SPE-Amsterdam
REFRESH-INTERVAL;VALUE=DURATION:PT1H
X-Robots-Tag:noindex
X-PUBLISHED-TTL:PT1H
BEGIN:VTIMEZONE
TZID:Europe/Amsterdam
BEGIN:DAYLIGHT
TZOFFSETFROM:+0100
TZOFFSETTO:+0200
TZNAME:CEST
DTSTART:20220327T010000
END:DAYLIGHT
BEGIN:STANDARD
TZOFFSETFROM:+0200
TZOFFSETTO:+0100
TZNAME:CET
DTSTART:20221030T010000
END:STANDARD
END:VTIMEZONE
BEGIN:VEVENT
DTSTART;TZID=Europe/Amsterdam:20220210T093000
DTEND;TZID=Europe/Amsterdam:20220210T120000
DTSTAMP:20260423T052502
CREATED:20220131T135101Z
LAST-MODIFIED:20220131T135101Z
UID:18467-1644485400-1644494400@www.spe-amsterdam.nl
SUMMARY:Gratis Empowermentcursus Vrouw & Ondernemerschap
DESCRIPTION:  \nAmsterdamse vrouwen opgelet! \nBuurvrouwennetwerk Gaasperdam organiseert van 10 februari t/m 21 april Empowermentcursus Vrouw & Ondernemerschap cursus op donderdagen van 9.30 – 12.00 uur in buurthuis Holendrecht\, Amsterdam Zuidoost. \nDroom jij ervan om een eigen bedrijf te starten?\nWil jij je ondernemersvaardigheden versterken en andere startende ondernemers ontmoeten?\nBen je bereid om naar jezelf te kijken en anderen positief naar jou te laten kijken? \nPak deze kans!. Meld je snel aan en doe mee. Informeer ook andere vrouwen in je netwerk.\nMaximaal 15 serieuze deelnemers. Vol=Vol. \nAanmelden kan tot uiterlijk 7 februari \nMeer info en aanmelden via info@stichtingbng.nl Tel: 0685515248 \n  \nVoorafgaand aan de cursus is er korte kennismakingsgesprek met de trainers/coaches in buurthuis Holendrecht
URL:https://www.spe-amsterdam.nl/event/gratis-empowermentcursus-vrouw-ondernemerschap/
LOCATION:Buurthuis Holendrecht\, Holendrechtplein 36\, Amsterdam\, 1106LP\, Nederland
END:VEVENT
END:VCALENDAR