BEGIN:VCALENDAR
VERSION:2.0
PRODID:-//SPE-Amsterdam - ECPv6.1.3//NONSGML v1.0//EN
CALSCALE:GREGORIAN
METHOD:PUBLISH
X-ORIGINAL-URL:https://www.spe-amsterdam.nl
X-WR-CALDESC:Evenementen voor SPE-Amsterdam
REFRESH-INTERVAL;VALUE=DURATION:PT1H
X-Robots-Tag:noindex
X-PUBLISHED-TTL:PT1H
BEGIN:VTIMEZONE
TZID:Europe/Amsterdam
BEGIN:DAYLIGHT
TZOFFSETFROM:+0100
TZOFFSETTO:+0200
TZNAME:CEST
DTSTART:20210328T010000
END:DAYLIGHT
BEGIN:STANDARD
TZOFFSETFROM:+0200
TZOFFSETTO:+0100
TZNAME:CET
DTSTART:20211031T010000
END:STANDARD
END:VTIMEZONE
BEGIN:VEVENT
DTSTART;TZID=Europe/Amsterdam:20211109T140000
DTEND;TZID=Europe/Amsterdam:20211109T163000
DTSTAMP:20260423T011008
CREATED:20211022T141053Z
LAST-MODIFIED:20211022T141913Z
UID:18300-1636466400-1636475400@www.spe-amsterdam.nl
SUMMARY:Filmvertoning Doula's van de Stad - Female Economy x SPE
DESCRIPTION:Fotograaf: Robin Haurissa \n  \nDoula’s van de Stad volgt Adelheid Roosen’s bewondering voor vrouwen die in de haarvaten van hun wijken en stad dagelijks klaar staan voor een ander. Zij zetten hun persoonlijke ervaringen om in een onmisbare kracht die anderen helpt en ondersteunt. Net als een Doula – zij die jou gidst – geven deze vrouwen vanuit kundigheid en eigen ervaring steun aan hun gemeenschappen. \nMet hun alerte zintuigen vechten ze tegen armoede\, eenzaamheid\, drugs\, criminaliteit en meer. \n  \nZij zien het onrecht\, \nRuiken het verdriet\, \nHoren het geweld\, \nEn proeven de tranen. \n  \nWat drijft deze vrouwen? Hoe komt het dat zij zo belangeloos kunnen geven? De in 2020 geplande theatervoorstelling met tachtig vrouwen kon door de coronamaatregelen niet doorgaan. Adelheid bracht zeven van deze vrouwen alsnog samen om het gestarte repetitieproces via intieme Zoomsessies voort te zetten. En door gespreksleider Jale Simsek kon ze zelf ook in gelijkwaardigheid deelnemen aan het gesprek. \nZonder elkaar te kennen bij aanvang\, bleek het delen en tonen van hun kwetsbaarheid een gedeelde behoefte. Werkend vanuit hun autobiografie\, voeden zij – vaak ongezien en niet op werkelijke waarde geschat – de samenleving. De openhartigheid van de acht vrouwen bracht de bron van waaruit zij geven aan het licht én zorgde voor een onverwachte wending: ondanks hun totaal verschillende achtergronden ontdekten de vrouwen dat er meer is wat hen bindt dan ze verwacht hadden. De in lockdown gemaakte film Doula’s van de Stad toont de verbondenheid in deze intieme gesprekken en brengt een ode aan de vrouwelijke kracht. \nDE FILM \nDoula’s van de Stad volgt Adelheid Roosen’s bewondering voor vrouwen die vanuit kundigheid en eigen ervaring steun geven aan hun gemeenschappen. De vraag die centraal staat is: hoe komt het dat deze vrouwen zo belangeloos kunnen geven aan de stad\, en uit welke bron putten zij? De in 2020 geplande theatervoorstelling met tachtig vrouwen kon door de coronamaatregelen niet doorgaan. Adelheid bracht daarom zeven van deze vrouwen alsnog samen om het gestarte repetitieproces via intieme Zoomsessies voort te zetten. \nOndanks hun totaal verschillende achtergronden ontdekten de vrouwen dat er meer is wat hen bindt dan ze verwacht hadden. De in lockdown gemaakte film Doula’s van de Stad toont de verbondenheid in deze intieme gesprekken en brengt een ode aan de vrouwelijke kracht. \n  \nWANNEER EN WAAR? \nOp 9 november 2021\, 14:00-16:30\, vertonen wij Doula’s van de Stad op het Max Euweplein 36. Nadien gaan we in gesprek met doula’s Nora en Darifa\, en gespreksleider Myriam Sahraoui. Geniet van de film EN een open en prikkelend nagesprek over het besturen van stichtingen/initiatieven en meer. Wat hebben jullie nodig om voluit te kunnen functioneren? \nOp 30 november 2021 wordt er naar aanleiding van deze film een avond in Pakhuis de Zwijger georganiseerd met beleidsmakers. Ook wij kunnen hier onze stem laten horen\, en zijn welkom om onze groep op de kaart te zetten. De punten die we op 9 november verzamelen\, kunnen we in deze avond meenemen. \nMeld je aan door te mailen naar info@spe-amsterdam.nl
URL:https://www.spe-amsterdam.nl/event/filmvertoning-doulas-van-de-stad-female-academy-x-spe/
LOCATION:Max Euweplein 36\, Max Euweplein 36\, Amsterdam\, 1017MB\, Nederland
ATTACH;FMTTYPE=image/png:https://www.spe-amsterdam.nl/wp-content/uploads/2021/10/Schermafbeelding-2021-10-22-om-17.09.29.png
END:VEVENT
END:VCALENDAR