BEGIN:VCALENDAR
VERSION:2.0
PRODID:-//SPE-Amsterdam - ECPv6.1.3//NONSGML v1.0//EN
CALSCALE:GREGORIAN
METHOD:PUBLISH
X-WR-CALNAME:SPE-Amsterdam
X-ORIGINAL-URL:https://www.spe-amsterdam.nl
X-WR-CALDESC:Evenementen voor SPE-Amsterdam
REFRESH-INTERVAL;VALUE=DURATION:PT1H
X-Robots-Tag:noindex
X-PUBLISHED-TTL:PT1H
BEGIN:VTIMEZONE
TZID:Europe/Amsterdam
BEGIN:DAYLIGHT
TZOFFSETFROM:+0100
TZOFFSETTO:+0200
TZNAME:CEST
DTSTART:20210328T010000
END:DAYLIGHT
BEGIN:STANDARD
TZOFFSETFROM:+0200
TZOFFSETTO:+0100
TZNAME:CET
DTSTART:20211031T010000
END:STANDARD
END:VTIMEZONE
BEGIN:VEVENT
DTSTART;TZID=Europe/Amsterdam:20211021T093000
DTEND;TZID=Europe/Amsterdam:20211021T123000
DTSTAMP:20260422T235428
CREATED:20210907T082725Z
LAST-MODIFIED:20210907T082725Z
UID:18202-1634808600-1634819400@www.spe-amsterdam.nl
SUMMARY:Gratis Empowermenttraining Ondernemende Vrouwen
DESCRIPTION:Let op! Aanmelden kan tot uiterlijk 13 september bij Stichting Buurvrouwennetwerk Gaasperdam. Vol=Vol.\nVermeld je naam en tel.nummer. Email: info@stichtingbng.nl of telefonisch 06-85 515 248 / 06-23 79 45 74
URL:https://www.spe-amsterdam.nl/event/gratis-empowermenttraining-ondernemende-vrouwen-5/
LOCATION:Buurthuis Holendrecht\, Holendrechtplein 36\, Amsterdam\, 1106LP\, Nederland
END:VEVENT
END:VCALENDAR