BEGIN:VCALENDAR
VERSION:2.0
PRODID:-//SPE-Amsterdam - ECPv6.1.3//NONSGML v1.0//EN
CALSCALE:GREGORIAN
METHOD:PUBLISH
X-WR-CALNAME:SPE-Amsterdam
X-ORIGINAL-URL:https://www.spe-amsterdam.nl
X-WR-CALDESC:Evenementen voor SPE-Amsterdam
REFRESH-INTERVAL;VALUE=DURATION:PT1H
X-Robots-Tag:noindex
X-PUBLISHED-TTL:PT1H
BEGIN:VTIMEZONE
TZID:Europe/Amsterdam
BEGIN:DAYLIGHT
TZOFFSETFROM:+0100
TZOFFSETTO:+0200
TZNAME:CEST
DTSTART:20210328T010000
END:DAYLIGHT
BEGIN:STANDARD
TZOFFSETFROM:+0200
TZOFFSETTO:+0100
TZNAME:CET
DTSTART:20211031T010000
END:STANDARD
END:VTIMEZONE
BEGIN:VEVENT
DTSTART;TZID=Europe/Amsterdam:20210729T200000
DTEND;TZID=Europe/Amsterdam:20210729T200000
DTSTAMP:20260422T195502
CREATED:20210721T134405Z
LAST-MODIFIED:20210721T134405Z
UID:18143-1627588800-1627588800@www.spe-amsterdam.nl
SUMMARY:Freyda - De Roze Nesjomme
DESCRIPTION:Iedereen met een Joodse achtergrond moet een plek kunnen hebben in de Joodse gemeenschap. Maar hoe zit dat met LHBTQI+’ers in de Joodse gemeenschap. Voelen zij zich daarin thuis\, vrij om te zijn wie ze willen zijn? Is het extra lastig om én LHBTQI+’er\, én Joods te zijn? Wat is er in het verleden allemaal gebeurd om de acceptatie van LHBTQI+’ers in de gemeenschap te verbeteren\, en wat kunnen we anno 2021 nog doen? Is de strijd om emancipatie voorbij\, of is er nog winst te behalen? Tijdens de Roze Nesjomme bespreken we deze en andere vragen.
URL:https://www.spe-amsterdam.nl/event/freyda-de-roze-nesjomme/
LOCATION:De Balie\, Kleine-Gartmanplantsoen 10\, Amsterdam\, Noord Holland\, 1017 RR\, Nederland
ATTACH;FMTTYPE=image/png:https://www.spe-amsterdam.nl/wp-content/uploads/2021/07/banners-website-freyda-9-1920x738-1.png
END:VEVENT
END:VCALENDAR