BEGIN:VCALENDAR
VERSION:2.0
PRODID:-//SPE-Amsterdam - ECPv6.1.3//NONSGML v1.0//EN
CALSCALE:GREGORIAN
METHOD:PUBLISH
X-ORIGINAL-URL:https://www.spe-amsterdam.nl
X-WR-CALDESC:Evenementen voor SPE-Amsterdam
REFRESH-INTERVAL;VALUE=DURATION:PT1H
X-Robots-Tag:noindex
X-PUBLISHED-TTL:PT1H
BEGIN:VTIMEZONE
TZID:Europe/Amsterdam
BEGIN:DAYLIGHT
TZOFFSETFROM:+0100
TZOFFSETTO:+0200
TZNAME:CEST
DTSTART:20210328T010000
END:DAYLIGHT
BEGIN:STANDARD
TZOFFSETFROM:+0200
TZOFFSETTO:+0100
TZNAME:CET
DTSTART:20211031T010000
END:STANDARD
END:VTIMEZONE
BEGIN:VEVENT
DTSTART;VALUE=DATE:20210616
DTEND;VALUE=DATE:20210702
DTSTAMP:20260422T184012
CREATED:20210615T115117Z
LAST-MODIFIED:20210615T115257Z
UID:18078-1623801600-1625183999@www.spe-amsterdam.nl
SUMMARY:Fotoproject FATIMA HERITAGE toert door Amsterdam Nieuw-West
DESCRIPTION:Amsterdam\, 9 juni 2021\, \nVrouwen uit Nieuw-West op beeldende wijze in het zonnetje zetten met het uitdragen van hun cultureel erfgoed. Dat staat centraal bij het fotoproject FATIMA HERITAGE. Ze beelden in deze expositie een (oude) foto van hun moeder\, zus\, moeder of oma uit. Daarmee eren  ze hen als rolmodellen. Emre Ünver\, voorzitter van stadsdeel Nieuw-West opent de expositie donderdag 17 juni om 15.00 uur op Plein ‘40’- 45.  \nDe geportretteerde vrouwen zijn stuk voor rolmodellen met verschillende achtergronden. Zoals Mbarka Nbir\, een voorbeeld voor haar dochter: “Mijn moeder heeft deze kracht op ons\, haar dochters\, over gebracht. Ik ben hiervoor heel dankbaar want hierdoor staan wij als vrouwen krachtig in onze schoenen en zijn wij onze beste versie geworden. Om haar te eren maar ook de kracht van de Marokkaanse vrouw die ik in deze foto terug zie heb ik hiervoor gekozen. Ik wil hiermee onze heritage die we hebben meegenomen in de Nederlandse samenleving delen om samen trots op te zijn en als inspiratie voor anderen”. \nKruisbestuiving \nIets wat Emre Ünver herkent. “Dit is een prachtige kruisbestuiving tussen verschillende culturen\, zoals de Marokkaanse en Nederlandse. Deze verrijken elkaar. Het is ook een verhaal van emancipatie\, van kracht\, van doorzetten en daarmee een voorbeeld zijn voor anderen. Terecht dat deze vrouwen in het zonnetje worden gezet.”  De foto’s en de verhalen van deze zes vrouwen uit Nieuw-West staan op www.mrmrsoasis.nl \nReist door de stad \nFATIMA is van 16 juni tot 1 juli te zien op Plein ’40-’45. Daarna doet de expo van 1 juli tot en met 17 juli de locatie tegenover De Meervaart aan de Sloterplas. Vervolgens reist het vrouwenplatform FATIMA de komende jaren door de stad om zo bewustwording te creëren op het gebied van verhalen\, inclusie en empowerment. Ook wordt ingestoken op samenwerken met verschillende vrouwenorganisaties om zo de krachten de versterken. \nDoorgeven aan volgende generatie vrouwen \nFATIMA HERITAGE is geproduceerd door het culturele mediahuis Mr & Mrs Oasis\, met voor dit project\, ondersteuning van St. SAAAM. “Wij vinden het belangrijk om vrouwenkrachten te bundelen en hen vanuit kracht en zichtbaarheid neer te zetten. Daarbij hun eigen heritage verhalen vertellen\, om deze doorgeven aan de volgende generatie vrouwen én aan de rest van de stad” \nAlvast een voorproefje met quotes van de vrouwen  \nMbarka N’bir \nMijn oma is voor mij een goed voorbeeld van een vrouw met innerlijke kracht. Vasthoudend aan traditie\, maar wel meedeinend met de veranderingen. Ze heeft veel meegemaakt\, maar liet zich hierdoor niet definiëren en stond positief in het leven. \nZina Abboud  \nVan mijn moeder leerde ik dat je als vrouw een eigen pad moet uitstippelen en kansen moet grijpen als die zich aandienen. Dat vereist kracht\, durf\, doorzettingsvermogen en leiderschap. \nKhadija Bahara \nMijn oma was een sterke\, rechtvaardige en trotse vrouw die geen blad voor de mond nam. Integriteit en rechtvaardigheid gingen voor haar boven alles en iedereen. Ze maakte hierin geen verschil tussen mensen of belangen. \nYousra Moussir \nIk heb gekozen voor deze foto van mijn moeder\, omdat zij mijn grote voorbeeld is. Zij staat altijd voor mij klaar en zij is degene op wie ik later wil lijken. \nDana Masoud\nMijn zusje Sarah met haar mooie glimlach. Samen zijn we in 2013 uit Syrië gevlucht en we hebben elkaar nu lang niet gezien. Ik mis haar en ik hoop haar snel weer te zien. \nNoot voor de pers:\nPers is van harte welkom bij de opening op 17 juni.  Wel graag vooraf aanmelden bij Bert Jansen: 06 8207 1098\, b.jansen@amsterdam.nl. Er is dan ook een rondleiding langs de expo\, samen met de geportretteerde vrouwen.
URL:https://www.spe-amsterdam.nl/event/fotoproject-fatima-heritage-toert-door-amsterdam-nieuw-west/
LOCATION:plein ’40-’45\, Amsterdam
ATTACH;FMTTYPE=image/png:https://www.spe-amsterdam.nl/wp-content/uploads/2021/06/Schermafbeelding-2021-06-15-om-14.49.40-e1623761442387.png
END:VEVENT
END:VCALENDAR