BEGIN:VCALENDAR
VERSION:2.0
PRODID:-//SPE-Amsterdam - ECPv6.1.3//NONSGML v1.0//EN
CALSCALE:GREGORIAN
METHOD:PUBLISH
X-ORIGINAL-URL:https://www.spe-amsterdam.nl
X-WR-CALDESC:Evenementen voor SPE-Amsterdam
REFRESH-INTERVAL;VALUE=DURATION:PT1H
X-Robots-Tag:noindex
X-PUBLISHED-TTL:PT1H
BEGIN:VTIMEZONE
TZID:Europe/Amsterdam
BEGIN:DAYLIGHT
TZOFFSETFROM:+0100
TZOFFSETTO:+0200
TZNAME:CEST
DTSTART:20210328T010000
END:DAYLIGHT
BEGIN:STANDARD
TZOFFSETFROM:+0200
TZOFFSETTO:+0100
TZNAME:CET
DTSTART:20211031T010000
END:STANDARD
END:VTIMEZONE
BEGIN:VEVENT
DTSTART;TZID=Europe/Amsterdam:20210615T093000
DTEND;TZID=Europe/Amsterdam:20210615T123000
DTSTAMP:20260422T184011
CREATED:20210402T090516Z
LAST-MODIFIED:20210402T090516Z
UID:17918-1623749400-1623760200@www.spe-amsterdam.nl
SUMMARY:Vrijwilligersacademie Amsterdam - Training: Coachend begeleiden vrijwilligers
DESCRIPTION:Coachend begeleiden van vrijwilligers (Zoom)\nJe ontwikkelt en versterkt jouw coachende vaardigheden bij het werken met vrijwilligers\, waardoor de samenwerking met jouw vrijwilligers verbetert. \nDoel en inhoud\nHet doel van de training is het ontwikkelen van coachende vaardigheden van beroepskrachten om de effectiviteit van de samenwerking met vrijwilligers te vergroten \nTijdens de training komen de volgende onderwerpen aan bod: \n\ncoachende gespreksvaardigheden\nverschil en overeenkomsten rol en positie vrijwilliger\, vriend en/of professional\nde 7 elementen van een coachingsproces en coachingsmodel\nhet geven en ontvangen van feedback\nstellen en bewaken van grenzen\nde redders en winnaarsdriehoek\noplossingsgericht werken\nreflecteren & zelfkennis.\n\nAan het eind van de 1e bijeenkomst ontvang je een coachingsopdracht\, die tijdens de 2e bijeenkomst wordt besproken. \nHoe werkt het?\nWe werken met het videoconferentie systeem Zoom. Voorafgaande aan de training ontvang je instructie hoe je Zoom kunt installeren op je computer\, laptop of tablet. Voor elke online bijeenkomst ontvang je een uitnodiging met link. \nWe starten met een geluidscontrole en check in. Tijdens de training werken we met oefeningen\, je krijgt duidelijke opdrachten\, mogelijk in breakout rooms (in tweetallen\, gefaciliteerd door Zoom). We eindigen met een check-out: wat je meeneemt of hoe je erbij zit. Tussendoor houden we pauze. Wij vragen je de training met zowel beeld als geluid te volgen. \nVoor wie?\nDeze bijeenkomst is bedoeld voor beroepskrachten die met vrijwilligers werken. \nTijdsinvestering\n7 uur\, inclusief huiswerkopdracht. \nStudiemateriaal\nJe ontvangt vooraf een handout via de mail; handig om deze bij je te hebben tijdens de online bijeenkomsten. \nAantal deelnemers\nDe training biedt plaats aan maximaal 10 deelnemers. \nCertificaat van deelname\nJa \nLet op\nTussen de 1e en 2e bijeenkomst zit twee weken.
URL:https://www.spe-amsterdam.nl/event/vrijwilligersacademie-amsterdam-training-coachend-begeleiden-vrijwilligers/
LOCATION:Online
ATTACH;FMTTYPE=image/png:https://www.spe-amsterdam.nl/wp-content/uploads/2016/02/Logo-Vrijwilligersacademie-1.png
ORGANIZER;CN="Vrijwilligersacademie%20Amsterdam":MAILTO:info@vrijwilligersacademie.net
END:VEVENT
BEGIN:VEVENT
DTSTART;TZID=Europe/Amsterdam:20210615T180000
DTEND;TZID=Europe/Amsterdam:20210615T210000
DTSTAMP:20260422T184011
CREATED:20210602T101321Z
LAST-MODIFIED:20210602T101321Z
UID:18044-1623780000-1623790800@www.spe-amsterdam.nl
SUMMARY:Emancipator - Training en intervisiebijeenkomst
DESCRIPTION:Naar aanleiding van de talkshow op 7 april 2021 – Vaders & Zonen: op zoek naar verbinding – en de talkshow op 20 mei 2021 –  Be The (Hu)man: betrokken vaderschap in Zuidoost – presenteert de Alliantie Mannenemancipatie Amsterdam in juni 2021 training- en intervisiebijeenkomsten in Nieuw-West en Zuidoost. De training- en intervisiebijenkomsten vinden plaats op 8 en 15 juni voor mannen\, professionals\, jongerenwerkers\, buurtwerkers en vrijwilligers. \nWordt Change Agent; Vergroot je netwerk\, leer praktische en interactieve werkvormen\, werk met ervaren trainers aan je persoonlijke en professionele ontwikkeling\, en ontwikkel een handelingsperspectief om eigen projecten op te zetten om met jongens en mannen te werken aan diverse thema’s.
URL:https://www.spe-amsterdam.nl/event/emancipator-training-en-intervisiebijeenkomst-2/
ATTACH;FMTTYPE=image/png:https://www.spe-amsterdam.nl/wp-content/uploads/2017/11/emancipator.png
END:VEVENT
END:VCALENDAR