BEGIN:VCALENDAR
VERSION:2.0
PRODID:-//SPE-Amsterdam - ECPv6.1.3//NONSGML v1.0//EN
CALSCALE:GREGORIAN
METHOD:PUBLISH
X-ORIGINAL-URL:https://www.spe-amsterdam.nl
X-WR-CALDESC:Evenementen voor SPE-Amsterdam
REFRESH-INTERVAL;VALUE=DURATION:PT1H
X-Robots-Tag:noindex
X-PUBLISHED-TTL:PT1H
BEGIN:VTIMEZONE
TZID:Europe/Amsterdam
BEGIN:DAYLIGHT
TZOFFSETFROM:+0100
TZOFFSETTO:+0200
TZNAME:CEST
DTSTART:20210328T010000
END:DAYLIGHT
BEGIN:STANDARD
TZOFFSETFROM:+0200
TZOFFSETTO:+0100
TZNAME:CET
DTSTART:20211031T010000
END:STANDARD
END:VTIMEZONE
BEGIN:VEVENT
DTSTART;TZID=Europe/Amsterdam:20210612T100000
DTEND;TZID=Europe/Amsterdam:20210612T123000
DTSTAMP:20260422T184011
CREATED:20210610T111207Z
LAST-MODIFIED:20210610T111207Z
UID:18064-1623492000-1623501000@www.spe-amsterdam.nl
SUMMARY:Venzo - Webinar: van offline naar online
DESCRIPTION:In deze workshop leer je welke programma’s\, tools en werkvormen er zijn\, waarmee je jouw offline product een online versie kan maken. \n\n\nDe workshop \n\nSinds de uitbraak van Corona en de daarbij behorende lockdowns\, is het thuiswerken en het online werken flink toegenomen. Voor de meeste mensen was en is dit even flink wennen! Vergaderingen\, bijeenkomsten\, trainingen\, seminars en dergelijken zijn nu veelal online en het lijkt er op dat dit een blijvende trend is\, omdat er ook veel voordelen van zijn. Het is echter niet voor iedereen even duidelijk hoe alles werkt\, wat mogelijk is en welke programma’s er zijn. In deze workshop duiken we in de wereld van het online werken! \n  \nEen online bijeenkomst volgen of leiden is anders dan ‘offline’\, in de fysieke ruimte. Vooral op het gebied van interactie\, betrokkenheid en concentratie. Hoe blijf je\, of houd je mensen voor een paar uur betrokken via en geconcentreerd voor het beeldscherm? Er zijn verschillende programma’s\, tools en werkvormen waarmee je hier op kan inspelen. \nTijdens de workshop gaan we kijken naar welke verschillende online platforms en mediums er zijn. We zoomen daarbij in op een van de meeste gebruikte programma’s genaamd Zoom en kijken welke basis tools er zijn en welke werkvormen mogelijk zijn. Ook kijken we naar waarmee je rekening moet houden in de opbouw van een online programma en hoe je online energizers kan gebruiken om een actieve houding\, energie en concentratie te stimuleren. \nWe zullen proeven aan de werkvormen door ook met elkaar te oefenen\, waardoor je ook zal ervaren hoe je interactie met elkaar opbouwt. \n\n\nVoor wie \n\nVrijwilligers\, -organisaties en actieve bewoners die online bijeenkomsten moeten of willen aanbieden\, die zij eerder live\, offline\, in de fysieke ruimte aanboden. \n\n\nResultaten \n\nNa het volgen van deze cursus… \n\nWeet je welke online programma je kan gebruiken voor verschillende doeleinden\nWeet je hoe je Zoom en enkele basistools en werkvormen kan gebruiken\nWeet je hoe je enkele energizers kan inzetten\nWeet je waar je rekening mee moet houden in de opbouw van een online programma\n\n  \n\n\nWerkwijze \n\n\nInteractieve presentatie\nUitwisseling\nOefening\n\n\n\nDocent \n\nMaartje Bos
URL:https://www.spe-amsterdam.nl/event/venzo-webinar-van-offline-naar-online/
LOCATION:Online
ATTACH;FMTTYPE=image/jpeg:https://www.spe-amsterdam.nl/wp-content/uploads/2016/03/Venzo.jpg
ORGANIZER;CN="Venzo":MAILTO:info@venzo.co.nl
END:VEVENT
END:VCALENDAR