BEGIN:VCALENDAR
VERSION:2.0
PRODID:-//SPE-Amsterdam - ECPv6.1.3//NONSGML v1.0//EN
CALSCALE:GREGORIAN
METHOD:PUBLISH
X-WR-CALNAME:SPE-Amsterdam
X-ORIGINAL-URL:https://www.spe-amsterdam.nl
X-WR-CALDESC:Evenementen voor SPE-Amsterdam
REFRESH-INTERVAL;VALUE=DURATION:PT1H
X-Robots-Tag:noindex
X-PUBLISHED-TTL:PT1H
BEGIN:VTIMEZONE
TZID:Europe/Amsterdam
BEGIN:DAYLIGHT
TZOFFSETFROM:+0100
TZOFFSETTO:+0200
TZNAME:CEST
DTSTART:20210328T010000
END:DAYLIGHT
BEGIN:STANDARD
TZOFFSETFROM:+0200
TZOFFSETTO:+0100
TZNAME:CET
DTSTART:20211031T010000
END:STANDARD
END:VTIMEZONE
BEGIN:VEVENT
DTSTART;VALUE=DATE:20210611
DTEND;VALUE=DATE:20210612
DTSTAMP:20260422T183934
CREATED:20210104T141352Z
LAST-MODIFIED:20210215T093058Z
UID:17472-1623369600-1623455999@www.spe-amsterdam.nl
SUMMARY:Professionaliseringsdag SPE
DESCRIPTION:Verdere informatie over de inhoud en tijden van het programma volgt.
URL:https://www.spe-amsterdam.nl/event/netwerkbijeenkomst-spe-2/
END:VEVENT
BEGIN:VEVENT
DTSTART;VALUE=DATE:20210611
DTEND;VALUE=DATE:20210612
DTSTAMP:20260422T183934
CREATED:20210514T060909Z
LAST-MODIFIED:20210514T060909Z
UID:17996-1623369600-1623455999@www.spe-amsterdam.nl
SUMMARY:ELANCE Festival 2021 - #jijstaatnietalleen
DESCRIPTION:Het jaarlijkse ELANCE Festival staat weer voor de deur! Het beloven weer spectaculaire dagen te worden op vrijdag 11 juni in Amsterdam en donderdag 1 juli in Den Haag. Naast dat het een feestelijke afsluiting wordt van alle coachingstrajecten van afgelopen seizoen\, trappen we ook af met de campagne #jijstaatnietalleen. In samenwerking met Gemeente Amsterdam vragen we aandacht vóór en ondernemen we actie tégen straatintimidatie van en seksueel geweld tegen jonge vrouwen. Een aantal onderdelen van het festival worden ook online uitgezonden dus houd onze website en social media kanalen de komende tijd goed in de gaten!  \n\nCampagne #jijstaatnietalleen \n\nIntimidatie van en seksueel geweld tegen jonge vrouwen is een steeds groter wordend probleem.Tijd om in actie te komen! In samenwerking met Gemeente Amsterdam gaan we met de campagne #jijstaatnietalleen onder het motto #elancestaatnaastje in gesprek met onze meiden\, scholieren\, professionals en andere betrokkenen. Tijdens het ELANCE Festival op 11 juni in Amsterdam trappen we de campagne af met de ondertekening van de ELANCE gedragscode. De gedragscode stellen we samen met onze meiden op en wordt 11 juni live ondertekend door organisaties en andere betrokkenen die samen beloven een einde te maken aan intimidatie van en seksueel geweld tegen jonge vrouwen!  \n\nFeest! \n\nNa de aftrap van de campagne #jijstaatnietalleen is het tijd om al onze coaches en meiden in het zonnetje te zetten. We kijken terug op een bijzonder maar bovenal succesvol seizoen. We hebben dit jaar maar liefst 528 meiden en jonge vrouwen in Amsterdam\, Den Haag en Zoetermeer versterkt. We blijven groeien en onze impact wordt steeds groter. Tijd voor een feestje! Met een echt ELANCE got talent podium\, foodtrucks\, een beautyhoek\, het kledingevent mét roze loper en een heuse dansworkshop\, belooft het een feestelijke dag te worden!  \n\nWat kan jij doen? \n\nWil jij ons helpen om van het ELANCE Festival 2021 een groot succes te maken? Heel graag! Onderdeel van het festival is het kledingevent waar onze meiden kunnen shoppen voor nop. Dus heb jij mooie kleding in je kast die je niet meer draagt dan maak je ons daar heel blij mee. Maar ook een donatie of op een andere manier iets sponsoren helpt ons natuurlijk enorm. Voor meer informatie en de inleverpunten van de kleding kun je terecht bij: info@elanceacademy.nl Amsterdam: Bos en Lommerplein 281
URL:https://www.spe-amsterdam.nl/event/elance-festival-2021-jijstaatnietalleen/
LOCATION:Elance Academy\, Bos en Lommerplein 281\, Amsterdam\, 1055RW\, Nederland
ATTACH;FMTTYPE=image/jpeg:https://www.spe-amsterdam.nl/wp-content/uploads/2021/05/ae48e9_2bd1a616c83c40598d9aa6a5ac7f8d9d_mv2.jpg
ORGANIZER;CN="Elance%20Academy":MAILTO:info@elanceacademy.nl
END:VEVENT
END:VCALENDAR