BEGIN:VCALENDAR
VERSION:2.0
PRODID:-//SPE-Amsterdam - ECPv6.1.3//NONSGML v1.0//EN
CALSCALE:GREGORIAN
METHOD:PUBLISH
X-WR-CALNAME:SPE-Amsterdam
X-ORIGINAL-URL:https://www.spe-amsterdam.nl
X-WR-CALDESC:Evenementen voor SPE-Amsterdam
REFRESH-INTERVAL;VALUE=DURATION:PT1H
X-Robots-Tag:noindex
X-PUBLISHED-TTL:PT1H
BEGIN:VTIMEZONE
TZID:Europe/Amsterdam
BEGIN:DAYLIGHT
TZOFFSETFROM:+0100
TZOFFSETTO:+0200
TZNAME:CEST
DTSTART:20210328T010000
END:DAYLIGHT
BEGIN:STANDARD
TZOFFSETFROM:+0200
TZOFFSETTO:+0100
TZNAME:CET
DTSTART:20211031T010000
END:STANDARD
END:VTIMEZONE
BEGIN:VEVENT
DTSTART;TZID=Europe/Amsterdam:20210608T180000
DTEND;TZID=Europe/Amsterdam:20210608T210000
DTSTAMP:20260422T183936
CREATED:20210602T100845Z
LAST-MODIFIED:20210602T100845Z
UID:18042-1623175200-1623186000@www.spe-amsterdam.nl
SUMMARY:Emancipator - Training en intervisiebijeenkomst
DESCRIPTION:Naar aanleiding van de talkshow op 7 april 2021 – Vaders & Zonen: op zoek naar verbinding – en de talkshow op 20 mei 2021 –  Be The (Hu)man: betrokken vaderschap in Zuidoost – presenteert de Alliantie Mannenemancipatie Amsterdam in juni 2021 training- en intervisiebijeenkomsten in Nieuw-West en Zuidoost. De training- en intervisiebijenkomsten vinden plaats op 8 en 15 juni voor mannen\, professionals\, jongerenwerkers\, buurtwerkers en vrijwilligers. \nWordt Change Agent; Vergroot je netwerk\, leer praktische en interactieve werkvormen\, werk met ervaren trainers aan je persoonlijke en professionele ontwikkeling\, en ontwikkel een handelingsperspectief om eigen projecten op te zetten om met jongens en mannen te werken aan diverse thema’s.
URL:https://www.spe-amsterdam.nl/event/emancipator-training-en-intervisiebijeenkomst/
LOCATION:Mannencentrum Daadkracht\, President Allendelaan 719\, Amsterdam
ATTACH;FMTTYPE=image/png:https://www.spe-amsterdam.nl/wp-content/uploads/2017/11/emancipator.png
END:VEVENT
END:VCALENDAR