BEGIN:VCALENDAR
VERSION:2.0
PRODID:-//SPE-Amsterdam - ECPv6.1.3//NONSGML v1.0//EN
CALSCALE:GREGORIAN
METHOD:PUBLISH
X-WR-CALNAME:SPE-Amsterdam
X-ORIGINAL-URL:https://www.spe-amsterdam.nl
X-WR-CALDESC:Evenementen voor SPE-Amsterdam
REFRESH-INTERVAL;VALUE=DURATION:PT1H
X-Robots-Tag:noindex
X-PUBLISHED-TTL:PT1H
BEGIN:VTIMEZONE
TZID:Europe/Amsterdam
BEGIN:DAYLIGHT
TZOFFSETFROM:+0100
TZOFFSETTO:+0200
TZNAME:CEST
DTSTART:20210328T010000
END:DAYLIGHT
BEGIN:STANDARD
TZOFFSETFROM:+0200
TZOFFSETTO:+0100
TZNAME:CET
DTSTART:20211031T010000
END:STANDARD
END:VTIMEZONE
BEGIN:VEVENT
DTSTART;TZID=Europe/Amsterdam:20210603T190000
DTEND;TZID=Europe/Amsterdam:20210603T203000
DTSTAMP:20260422T173351
CREATED:20210531T100636Z
LAST-MODIFIED:20210531T100636Z
UID:18039-1622746800-1622752200@www.spe-amsterdam.nl
SUMMARY:Amsterdams Buurvrouwen Contact - 20 jaar ABC
DESCRIPTION:Wij zijn jarig! Ons 20-jarig bestaan vieren wij heel graag met jou. Ben jij erbij? Op donderdag 3 juni zetten wij de bloemetjes buiten tijdens ons online festival. \n  \nBekijk de uitnodiging in de bijlage en meld je vóór 30 mei aan\, want dan ontvang je een verrassing op de deurmat. Aanmelden kan door Linda een mail te sturen via: linda@abcamsterdam.org \n  \nTot 3 juni!  \n  \nEllen\, Linda\, Bianca & Sanne \nTeam Amsterdams Buurvrouwen Contact \nUitnodiging ABC 20 jaar
URL:https://www.spe-amsterdam.nl/event/amsterdams-buurvrouwen-contact-20-jaar-abc/
LOCATION:Online
ORGANIZER;CN="ABC":MAILTO:info@abcamsterdam.org
END:VEVENT
END:VCALENDAR