BEGIN:VCALENDAR
VERSION:2.0
PRODID:-//SPE-Amsterdam - ECPv6.1.3//NONSGML v1.0//EN
CALSCALE:GREGORIAN
METHOD:PUBLISH
X-ORIGINAL-URL:https://www.spe-amsterdam.nl
X-WR-CALDESC:Evenementen voor SPE-Amsterdam
REFRESH-INTERVAL;VALUE=DURATION:PT1H
X-Robots-Tag:noindex
X-PUBLISHED-TTL:PT1H
BEGIN:VTIMEZONE
TZID:Europe/Amsterdam
BEGIN:DAYLIGHT
TZOFFSETFROM:+0100
TZOFFSETTO:+0200
TZNAME:CEST
DTSTART:20210328T010000
END:DAYLIGHT
BEGIN:STANDARD
TZOFFSETFROM:+0200
TZOFFSETTO:+0100
TZNAME:CET
DTSTART:20211031T010000
END:STANDARD
END:VTIMEZONE
BEGIN:VEVENT
DTSTART;TZID=Europe/Amsterdam:20210527T090000
DTEND;TZID=Europe/Amsterdam:20210527T130000
DTSTAMP:20260422T173415
CREATED:20210402T082309Z
LAST-MODIFIED:20210402T085816Z
UID:17906-1622106000-1622120400@www.spe-amsterdam.nl
SUMMARY:Vrijwilligersacademie Amsterdam - Training: Begeleiden van rollenspellen
DESCRIPTION:Begeleiden van rollenspellen\nOefen met het begeleiden van rollenspellen en andere werkvormen om met jouw vrijwilligers aan de slag te gaan. \nIn deze workshop nemen we de tijd voor en oefenen we met rollenspellen en je kunt ook andere werkvormen extra oefenen. Zodra het woord rollenspel valt zie je cursisten vaak al wat naar achter deinzen… ik liever niet.\nWe gaan in deze workshop in op hoe je cursisten kunt verleiden om te oefenen met nieuw gedrag\, wat je kunt doen zonder dat rollenspel te noemen en hoe je de focus op oefenen en leren kunt krijgen. \nDoel en inhoud\nDe workshop is vooral bedoeld om in een intervisie-achtige setting van en met elkaar te leren. Je kunt ook met andere leer- en oefenwensen komen! \nNa het volgen van deze workshop: \n\nheb je kennis over de verschillende soorten rollenspellen die er zijn\nweet je wat je kunt doen om de cursisten in actieve werkvormen\, zoals het rollenspel\, mee te laten doen\nkun je een rollenspel begeleiden van start tot finish\nheb je geoefend met werkvormen.\n\nVoor wie?\nDeze workshop is bedoeld voor iedereen die voor vrijwilligers bijeenkomsten (trainingen en workshops) organiseert met als doel de vrijwilligers inzicht\, bewustwording en vaardigheden te leren. \nTrain de trainer programma\nDit is één van de workshops in het kader van het Train de trainer programma van de Vrijwilligersacademie; vijf trainingen op de vrijdagochtend\, met een interval van ca 5 weken. De andere thema’s uit deze serie zijn: \n\nde trainer als procesbegeleider\nbegeleiden van werkvormen\neen workshop leiden\nde trainer als persoon.\n\nTijdsinvestering\n4 uur \nStudiemateriaal\nTijdens de bijeenkomst wordt een hand-out uitgereikt. \nAantal deelnemers\nDe training biedt plaats aan minimaal 5 en maximaal 7 deelnemers. \nCertificaat van deelname\nJavr
URL:https://www.spe-amsterdam.nl/event/vrijwilligersacademie-amsterdam-training-begeleiden-van-rollenspellen/
LOCATION:Vrijwilligersacademie Amsterdam\, Keizersgracht 334\, Amsterdam\, 1016 EZ\, Nederland
ATTACH;FMTTYPE=image/png:https://www.spe-amsterdam.nl/wp-content/uploads/2016/02/Logo-Vrijwilligersacademie-1.png
ORGANIZER;CN="Vrijwilligersacademie%20Amsterdam":MAILTO:info@vrijwilligersacademie.net
END:VEVENT
BEGIN:VEVENT
DTSTART;TZID=Europe/Amsterdam:20210527T200000
DTEND;TZID=Europe/Amsterdam:20210527T213000
DTSTAMP:20260422T173415
CREATED:20210514T063037Z
LAST-MODIFIED:20210514T063037Z
UID:17999-1622145600-1622151000@www.spe-amsterdam.nl
SUMMARY:ATRIA - Boeklezing: Bent ú de burgemeester?
DESCRIPTION:Joyce Sylvester is een pionier\, steeds is zij de eerste zwarte vrouw in haar functie. Sinds 2016 is ze substituut ombudsman\, eerder was ze waarnemend burgemeester van Anna Paulowna en Naarden. Twaalf jaar lang was ze senator voor de PvdA. Naar aanleiding van de lancering van haar autobiografie Bent ú de burgemeester? verkennen we vanuit verschillende invalshoeken het belang van diversiteit in publieke functies. \n27 mei 2021 | 20.00 – 21.30\nIn samenwerking met Atlas Contact en SPUI 25. \nIn 2008 werd Joyce Sylvester de eerste vrouw van Surinaamse afkomst in Nederland die waarnemend burgemeester was\, wat ze uiteindelijk gedurende ruim zeven jaar is geweest in twee kleine gemeenten\, Anna Paulowna en Naarden. Onbevangen begon ze aan haar bestuursfuncties\, gaandeweg leerde ze dat de werkelijkheid taaier was dan ze had kunnen bedenken. Ze realiseerde zich: terwijl de diversiteit van de Nederlandse samenleving toeneemt\, zijn er nog amper bestuurlijke gezagsdragers die dat weerspiegelen. Met haar boek Bent ú de burgemeester wil Sylvester laten zien dat het wel degelijk kán; dat veel meer mensen de stap kunnen zetten\, zoals zij ooit deed. Met haar eerlijke verhaal toont ze het belang van kansengelijkheid. \nOver de sprekers\nJoyce Juanita Sylvester is sinds 2016 Substituut Ombudsman. Ze studeerde politicologie en communicatiewetenschap en promoveerde in 2000 in het staats- en bestuursrecht. Naast haar ervaring in het openbaar bestuur\, heeft zij als consultant in het bedrijfsleven gewerkt. Bent ú de burgemeester? is haar eerste boek. \nKaouthar Darmoni is genderwetenschapper en directeur van Atria\, kennisinstituut voor emancipatie en vrouwengeschiedenis. Ze is van oorsprong Tunesisch\, studeerde genderstudies aan de Sorbonne in Parijs en promoveerde aan de Universiteit van Lyon. Met het door haar opgerichte Feminine Capital & Goddess Dance coacht ze vrouwen over de hele wereld in het ontwikkelen van hun leiderschap. \nLiza Mügge is universitair hoofddocent politicologie aan de Universiteit van Amsterdam en 2020-2021 Alexander von Humboldt Fellow aan het Social Science Center Berlin (WZB). Zij leidt een Europees vergelijkend NWO-VIDI project over politieke vertegenwoordiging en diversiteit. \nDevika Partiman is sociaal activist en spreker. Ze is oprichter van stichting Stem op een Vrouw die zich inzet om meer vrouwen in politieke functies te krijgen. Ze is bestuurslid bij Nederland Wordt Beter\, dat zich inzet voor educatie over het koloniale en slavernijverleden\, en ambassadeur van Atria. In 2019 ontving ze de Ribbius Peletier-penning voor haar verdiensten voor vrouwenemancipatie. \nMarianne Verhoeven (moderator) is hoofdredacteur van Opzij.
URL:https://www.spe-amsterdam.nl/event/atria-boeklezing-bent-u-de-burgemeester/
LOCATION:Online
ATTACH;FMTTYPE=image/png:https://www.spe-amsterdam.nl/wp-content/uploads/2021/05/download-6.png
END:VEVENT
END:VCALENDAR