BEGIN:VCALENDAR
VERSION:2.0
PRODID:-//SPE-Amsterdam - ECPv6.1.3//NONSGML v1.0//EN
CALSCALE:GREGORIAN
METHOD:PUBLISH
X-WR-CALNAME:SPE-Amsterdam
X-ORIGINAL-URL:https://www.spe-amsterdam.nl
X-WR-CALDESC:Evenementen voor SPE-Amsterdam
REFRESH-INTERVAL;VALUE=DURATION:PT1H
X-Robots-Tag:noindex
X-PUBLISHED-TTL:PT1H
BEGIN:VTIMEZONE
TZID:Europe/Amsterdam
BEGIN:DAYLIGHT
TZOFFSETFROM:+0100
TZOFFSETTO:+0200
TZNAME:CEST
DTSTART:20210328T010000
END:DAYLIGHT
BEGIN:STANDARD
TZOFFSETFROM:+0200
TZOFFSETTO:+0100
TZNAME:CET
DTSTART:20211031T010000
END:STANDARD
END:VTIMEZONE
BEGIN:VEVENT
DTSTART;TZID=Europe/Amsterdam:20210519T090000
DTEND;TZID=Europe/Amsterdam:20210519T120000
DTSTAMP:20260422T173350
CREATED:20210402T084515Z
LAST-MODIFIED:20210402T084515Z
UID:17914-1621414800-1621425600@www.spe-amsterdam.nl
SUMMARY:Vrijwilligersacademie Amsterdam - Training: Gesprekstechnieken voor coördinatoren
DESCRIPTION:Gesprekstechnieken voor coördinatoren (Zoom)\nVergroot met deze training jouw kennis over verschillende gespreksvormen en verbeter jouw vaardigheden daarin. \nDoel en inhoud\nCentraal in de training staan eigen ervaringen\, kennis\, vaardigheden en casuïstiek met vrijwilligers uit de praktijk. Daarnaast wordt er veel uitgewisseld en geoefend; alles in een veilige\, niet veroordelende leeromgeving. \nNa afloop van de training heb je meer bewustzijn\, kennis en vaardigheden op het gebied van: \n\ncontext en belang van selectie-\, voortgangs- en slecht nieuws gesprekken\nde ingrediënten en opbouw van de genoemde gesprekken\nde eigen (positieve) houding ten aanzien van het belang van en het voeren van selectie-\, voortgangs- en slecht nieuws gesprekken\nfeedback geven en ontvangen.\n\nHoe werkt het?\nWe werken met het video conferencing systeem Zoom. Voorafgaande aan de training ontvang je instructie hoe je Zoom kunt installeren op je computer\, laptop of tablet. Voor elke online bijeenkomst ontvang je een uitnodiging met link. \nWe starten elke keer met een geluidscontrole en check in. Tijdens de training werken we met oefeningen\, je krijgt duidelijke opdrachten\, mogelijk in breakout rooms (in tweetallen\, gefaciliteerd door Zoom). We eindigen met een check-out: wat je meeneemt of hoe je erbij zit. Tussendoor houden we pauze. \nVoor wie?\nDeze module gesprekstechnieken wordt aangeboden aan (ervaren) begeleiders en coördinatoren die werken met vrijwilligers. \nTijdsinvestering\n6 uur \nStudiemateriaal\nJe ontvangt per mail een handout. \nAantal deelnemers\nDe training biedt plaats aan maximaal 10 deelnemers. \nCertificaat van deelname\nJa
URL:https://www.spe-amsterdam.nl/event/vrijwilligersacademie-amsterdam-training-gesprekstechnieken-voor-coordinatoren-2/
LOCATION:Online
ATTACH;FMTTYPE=image/png:https://www.spe-amsterdam.nl/wp-content/uploads/2016/02/Logo-Vrijwilligersacademie-1.png
ORGANIZER;CN="Vrijwilligersacademie%20Amsterdam":MAILTO:info@vrijwilligersacademie.net
END:VEVENT
END:VCALENDAR