BEGIN:VCALENDAR
VERSION:2.0
PRODID:-//SPE-Amsterdam - ECPv6.1.3//NONSGML v1.0//EN
CALSCALE:GREGORIAN
METHOD:PUBLISH
X-WR-CALNAME:SPE-Amsterdam
X-ORIGINAL-URL:https://www.spe-amsterdam.nl
X-WR-CALDESC:Evenementen voor SPE-Amsterdam
REFRESH-INTERVAL;VALUE=DURATION:PT1H
X-Robots-Tag:noindex
X-PUBLISHED-TTL:PT1H
BEGIN:VTIMEZONE
TZID:Europe/Amsterdam
BEGIN:DAYLIGHT
TZOFFSETFROM:+0100
TZOFFSETTO:+0200
TZNAME:CEST
DTSTART:20210328T010000
END:DAYLIGHT
BEGIN:STANDARD
TZOFFSETFROM:+0200
TZOFFSETTO:+0100
TZNAME:CET
DTSTART:20211031T010000
END:STANDARD
END:VTIMEZONE
BEGIN:VEVENT
DTSTART;TZID=Europe/Amsterdam:20210517T133000
DTEND;TZID=Europe/Amsterdam:20210517T143000
DTSTAMP:20260422T173351
CREATED:20210323T123724Z
LAST-MODIFIED:20210402T080315Z
UID:17862-1621258200-1621261800@www.spe-amsterdam.nl
SUMMARY:Pharos - Webinar: Vrouwelijke genitale verminking in de asielprocedure
DESCRIPTION:Met wie\nDeze eerste webinar gaan we onder andere in gesprek met Martin Vegter. Hij is juridisch adviseur Kinderrechten en Migratie bij Defence for Children. Hij heeft veel ervaring in de ondersteuning bij asielzaken waarin vgv een rol speelt. Hij zal onder andere ingaan op vragen als: Is vgv een grond voor asiel in Nederland? Hoe kunnen mensen daar aanspraak op maken? Hoe handelt de Nederlandse overheid bij asielaanvragen op grond van vgv? Op grond van welke informatie wordt er een beslissing genomen? Wat zijn hierin knel- en verbeterpunten? Hoe verhoudt het migratiebeleid van de Nederlandse overheid zich tot het preventiebeleid? Hij zal specifiek ingaan op de kwestie van Guineese meisjes.\nNaast een inhoudelijke presentatie over feiten en verbeterpunten met betrekking tot vgv in de asielprocedure\, is er gelegenheid tot het stellen van vragen.\nLees ook zijn blog die hij ter gelegenheid van Zero Tolerance Day 2021 schreef. \nVoor wie?\nDe webinars zijn voor iedereen toegankelijk: (aankomende) professionals\, sleutelpersonen en andere geïnteresseerden.\nDit webinar zal zeker ook interessant zijn voor juristen\, advocaten en medewerkers IND. \nPraktisch\nDeelname aan de webinars is gratis. Aanmelden is noodzakelijk om de link voor deelname te ontvangen.
URL:https://www.spe-amsterdam.nl/event/pharos-webinar-vrouwelijke-genitale-verminking-in-de-asielprocedure/
LOCATION:Online
ATTACH;FMTTYPE=image/png:https://www.spe-amsterdam.nl/wp-content/uploads/2021/03/download-5.png
ORGANIZER;CN="Pharos":MAILTO:info@pharos.nl
END:VEVENT
END:VCALENDAR