BEGIN:VCALENDAR
VERSION:2.0
PRODID:-//SPE-Amsterdam - ECPv6.1.3//NONSGML v1.0//EN
CALSCALE:GREGORIAN
METHOD:PUBLISH
X-WR-CALNAME:SPE-Amsterdam
X-ORIGINAL-URL:https://www.spe-amsterdam.nl
X-WR-CALDESC:Evenementen voor SPE-Amsterdam
REFRESH-INTERVAL;VALUE=DURATION:PT1H
X-Robots-Tag:noindex
X-PUBLISHED-TTL:PT1H
BEGIN:VTIMEZONE
TZID:Europe/Amsterdam
BEGIN:DAYLIGHT
TZOFFSETFROM:+0100
TZOFFSETTO:+0200
TZNAME:CEST
DTSTART:20210328T010000
END:DAYLIGHT
BEGIN:STANDARD
TZOFFSETFROM:+0200
TZOFFSETTO:+0100
TZNAME:CET
DTSTART:20211031T010000
END:STANDARD
END:VTIMEZONE
BEGIN:VEVENT
DTSTART;TZID=Europe/Amsterdam:20210515T130000
DTEND;TZID=Europe/Amsterdam:20210515T130000
DTSTAMP:20260422T173350
CREATED:20210514T064544Z
LAST-MODIFIED:20210514T064609Z
UID:18002-1621083600-1621083600@www.spe-amsterdam.nl
SUMMARY:Wonda Women - Solidariteitsactie toeslagenschandaal
DESCRIPTION:Zoals jullie weten hebben we op Internationale Vrouwendag actie gevoerd in   in solidariteit met de ouders die zijn geraakt door het Toeslagenschandaal. Nu\, de week voor de Verantwoordingsdag in de Tweede Kamer\, hebben de ouders zelf verschillende acties opgezet waarin zij hun eisen kenbaar willen maken. Wonda Women wil jullie vragen samen met ons aan te sluiten bij deze acties. Het gaat hier om een Twitter actie op donderdag 13 mei om 20:00 en een fysieke demonstratie op de Dam zaterdag 15 mei om 13:00. Aanmelden voor de Twitter actie kan hier. \nIn toevoeging op deze acties is er ook een doneerfonds opgezet\, om te garanderen dat alle ouders die bij het protest willen zijn\, erbij kunnen zijn. Het doneerfonds kun je hier vinden.
URL:https://www.spe-amsterdam.nl/event/wonda-women-solidariteitsmanifestatie/
LOCATION:De Dam
ATTACH;FMTTYPE=image/jpeg:https://www.spe-amsterdam.nl/wp-content/uploads/2019/06/wondawomen.jpg
END:VEVENT
END:VCALENDAR