BEGIN:VCALENDAR
VERSION:2.0
PRODID:-//SPE-Amsterdam - ECPv6.1.3//NONSGML v1.0//EN
CALSCALE:GREGORIAN
METHOD:PUBLISH
X-WR-CALNAME:SPE-Amsterdam
X-ORIGINAL-URL:https://www.spe-amsterdam.nl
X-WR-CALDESC:Evenementen voor SPE-Amsterdam
REFRESH-INTERVAL;VALUE=DURATION:PT1H
X-Robots-Tag:noindex
X-PUBLISHED-TTL:PT1H
BEGIN:VTIMEZONE
TZID:Europe/Amsterdam
BEGIN:DAYLIGHT
TZOFFSETFROM:+0100
TZOFFSETTO:+0200
TZNAME:CEST
DTSTART:20210328T010000
END:DAYLIGHT
BEGIN:STANDARD
TZOFFSETFROM:+0200
TZOFFSETTO:+0100
TZNAME:CET
DTSTART:20211031T010000
END:STANDARD
END:VTIMEZONE
BEGIN:VEVENT
DTSTART;TZID=Europe/Amsterdam:20210512T090000
DTEND;TZID=Europe/Amsterdam:20210512T120000
DTSTAMP:20260422T173350
CREATED:20210402T084211Z
LAST-MODIFIED:20210402T085739Z
UID:17912-1620810000-1620820800@www.spe-amsterdam.nl
SUMMARY:Vrijwilligersacademie Amsterdam - Training: Gesprekstechnieken voor coördinatoren
DESCRIPTION:Gesprekstechnieken voor coördinatoren (Zoom)\nVergroot met deze training jouw kennis over verschillende gespreksvormen en verbeter jouw vaardigheden daarin. \nDoel en inhoud\nCentraal in de training staan eigen ervaringen\, kennis\, vaardigheden en casuïstiek met vrijwilligers uit de praktijk. Daarnaast wordt er veel uitgewisseld en geoefend; alles in een veilige\, niet veroordelende leeromgeving. \nNa afloop van de training heb je meer bewustzijn\, kennis en vaardigheden op het gebied van: \n\ncontext en belang van selectie-\, voortgangs- en slecht nieuws gesprekken\nde ingrediënten en opbouw van de genoemde gesprekken\nde eigen (positieve) houding ten aanzien van het belang van en het voeren van selectie-\, voortgangs- en slecht nieuws gesprekken\nfeedback geven en ontvangen.\n\nHoe werkt het?\nWe werken met het video conferencing systeem Zoom. Voorafgaande aan de training ontvang je instructie hoe je Zoom kunt installeren op je computer\, laptop of tablet. Voor elke online bijeenkomst ontvang je een uitnodiging met link. \nWe starten elke keer met een geluidscontrole en check in. Tijdens de training werken we met oefeningen\, je krijgt duidelijke opdrachten\, mogelijk in breakout rooms (in tweetallen\, gefaciliteerd door Zoom). We eindigen met een check-out: wat je meeneemt of hoe je erbij zit. Tussendoor houden we pauze. \nVoor wie?\nDeze module gesprekstechnieken wordt aangeboden aan (ervaren) begeleiders en coördinatoren die werken met vrijwilligers. \nTijdsinvestering\n6 uur \nStudiemateriaal\nJe ontvangt per mail een handout. \nAantal deelnemers\nDe training biedt plaats aan maximaal 10 deelnemers. \nCertificaat van deelname\nJa
URL:https://www.spe-amsterdam.nl/event/vrijwilligersacademie-amsterdam-training-gesprekstechnieken-voor-coordinatoren/
LOCATION:Online
ATTACH;FMTTYPE=image/png:https://www.spe-amsterdam.nl/wp-content/uploads/2016/02/Logo-Vrijwilligersacademie-1.png
ORGANIZER;CN="Vrijwilligersacademie%20Amsterdam":MAILTO:info@vrijwilligersacademie.net
END:VEVENT
BEGIN:VEVENT
DTSTART;TZID=Europe/Amsterdam:20210512T140000
DTEND;TZID=Europe/Amsterdam:20210512T170000
DTSTAMP:20260422T173350
CREATED:20210409T105910Z
LAST-MODIFIED:20210409T105910Z
UID:17928-1620828000-1620838800@www.spe-amsterdam.nl
SUMMARY:Emancipator - White Ribbon Bijeenkomst
DESCRIPTION:White Ribbon Bijeenkomst\nWat voor man wil jij zijn en zien om gendergerelateerd geweld te voorkomen?\n12 mei 2021 14.00 – 17.00 uur \n\n\n\n\nOm gendergerelateerd geweld te voorkomen moeten we werken met mannen en aan mannelijkheid. Dat doen wij en onze partners op talloze manieren. Met deze bijeenkomst bieden we een inkijkje in alle inspirerende projecten en activiteiten die er plaatsvinden. \n\nEmancipator presenteert de nieuwe campagne: Be the (hu)man you wish to see in the world.\nDaarmee stellen we mannen de vraag: Wat voor man wil jij zijn?\nProjecten en activiteiten van allerlei organisaties over het voorkomen van gendergerelateerd geweld\nActiviteiten die de komende tijd georganiseerd gaan worden vanuit het White Ribbon-campagnefonds\n\nVoor organisaties\, professionals\, activisten en andere geïnteresseerden: iedereen die meer wil weten over werk met mannen aan het voorkomen van gendergerelateerd geweld. Meer informatie volgt\, save the date!
URL:https://www.spe-amsterdam.nl/event/emancipator-white-ribbon-bijeenkomst/
LOCATION:Online
ATTACH;FMTTYPE=image/png:https://www.spe-amsterdam.nl/wp-content/uploads/2017/11/emancipator.png
END:VEVENT
END:VCALENDAR