BEGIN:VCALENDAR
VERSION:2.0
PRODID:-//SPE-Amsterdam - ECPv6.1.3//NONSGML v1.0//EN
CALSCALE:GREGORIAN
METHOD:PUBLISH
X-WR-CALNAME:SPE-Amsterdam
X-ORIGINAL-URL:https://www.spe-amsterdam.nl
X-WR-CALDESC:Evenementen voor SPE-Amsterdam
REFRESH-INTERVAL;VALUE=DURATION:PT1H
X-Robots-Tag:noindex
X-PUBLISHED-TTL:PT1H
BEGIN:VTIMEZONE
TZID:Europe/Amsterdam
BEGIN:DAYLIGHT
TZOFFSETFROM:+0100
TZOFFSETTO:+0200
TZNAME:CEST
DTSTART:20210328T010000
END:DAYLIGHT
BEGIN:STANDARD
TZOFFSETFROM:+0200
TZOFFSETTO:+0100
TZNAME:CET
DTSTART:20211031T010000
END:STANDARD
END:VTIMEZONE
BEGIN:VEVENT
DTSTART;TZID=Europe/Amsterdam:20210511T183000
DTEND;TZID=Europe/Amsterdam:20210511T183000
DTSTAMP:20260422T173350
CREATED:20210507T113416Z
LAST-MODIFIED:20210507T113416Z
UID:17984-1620757800-1620757800@www.spe-amsterdam.nl
SUMMARY:Pakhuis de Zwijger - FemCity #23: Baas in gehandicapte buik
DESCRIPTION:Moederdag ligt een paar dagen achter ons\, maar ouderschap is niet voor iedereen vanzelfsprekend. Voor wie gelden reproductieve en seksuele rechten eigenlijk? Gehandicapte mensen krijgen vaak te maken met gedwongen anticonceptie\, een gebrek aan seksuele voorlichting en ontmoediging van hun kinderwens. Om deze situatie te begrijpen én te veranderen is kennis van disability studies nodig: dit vakgebied bestudeert handicap als maatschappelijk fenomeen. Omdat seksisme en kolonialisme hand in hand gaan met validisme (de discriminatie van gehandicapte mensen)\, is dit onderwerp van belang voor iedere feminist. Tijdens deze avond gaan we in gesprek over de relatie tussen reproductieve en seksuele rechten\, validisme en het belang van een intersectionele blik.
URL:https://www.spe-amsterdam.nl/event/pakhuis-de-zwijger-femcity-23-baas-in-gehandicapte-buik/
LOCATION:Online
ATTACH;FMTTYPE=image/jpeg:https://www.spe-amsterdam.nl/wp-content/uploads/2021/02/zwijger-z.jpg
END:VEVENT
END:VCALENDAR