BEGIN:VCALENDAR
VERSION:2.0
PRODID:-//SPE-Amsterdam - ECPv6.1.3//NONSGML v1.0//EN
CALSCALE:GREGORIAN
METHOD:PUBLISH
X-WR-CALNAME:SPE-Amsterdam
X-ORIGINAL-URL:https://www.spe-amsterdam.nl
X-WR-CALDESC:Evenementen voor SPE-Amsterdam
REFRESH-INTERVAL;VALUE=DURATION:PT1H
X-Robots-Tag:noindex
X-PUBLISHED-TTL:PT1H
BEGIN:VTIMEZONE
TZID:Europe/Amsterdam
BEGIN:DAYLIGHT
TZOFFSETFROM:+0100
TZOFFSETTO:+0200
TZNAME:CEST
DTSTART:20210328T010000
END:DAYLIGHT
BEGIN:STANDARD
TZOFFSETFROM:+0200
TZOFFSETTO:+0100
TZNAME:CET
DTSTART:20211031T010000
END:STANDARD
END:VTIMEZONE
BEGIN:VEVENT
DTSTART;TZID=Europe/Amsterdam:20210422T090000
DTEND;TZID=Europe/Amsterdam:20210422T130000
DTSTAMP:20260422T155017
CREATED:20210402T081042Z
LAST-MODIFIED:20210402T085706Z
UID:17901-1619082000-1619096400@www.spe-amsterdam.nl
SUMMARY:Vrijwilligersacademie - Training: Trainer als procesbegeleider
DESCRIPTION:Trainer als procesbegeleider\nVaak lopen trainingen lekker\, zonder dat je precies weet waarom. Dat is fijn\, daar krijg je energie van. Maar soms is dat niet zo\, dan hapert er iets. Dan is het handig als je weet wat je zou kunnen doen om het weer vlot te trekken. \nDoel en inhoud\nIn deze workshop wordt aandacht besteed aan een aantal aspecten dat speelt bij het werken met groepen. Je krijgt een referentiekader\, zodat je de dingen die gebeuren beter kunt plaatsen. Daardoor wordt het mogelijk om te kiezen hoe je er als trainer op gaat reageren. \nDe doelstellingen van deze workshop zijn: \n\nbenoemen wat de verschillende communicatieniveaus in een training zijn.\nkennis van de 6 fasen in een groepsproces\nweten hoe je naar een bepaalde situatie kunt kijken: wat zie je\, wat voel je?\nweten welke vragen je kunt stellen om de situatie te analyseren en te interpreteren.\nkiezen welke interventie je toe zou kunnen passen.\n\nVoor wie?\nDeze workshop is bedoeld voor iedereen die voor vrijwilligers bijeenkomsten (training of workshop) organiseert met als doel dat de vrijwilligers inzicht\, bewustwording en vaardigheden te leren. \nTrain de trainer programma\nDit is een van de workshops in het kader van het Train de trainer programma van de Vrijwilligersacademie. Lees ook begeleiden van vrijwilligers is een vak. De andere vier thema’s uit deze serie zijn: \n\nwerkvormen begeleiden\nbegeleiden van rollenspellen\ntrainer als persoon\nworkshop leiden.\n\nTijdsinvestering\n4 uur \nStudiemateriaal\nTijdens de bijeenkomst wordt een hand-out uitgereikt. \nAantal Deelnemers\nDe training biedt plaats aan minimaal 5 en maximaal 7 deelnemers. \nCertificaat van deelname\nJa
URL:https://www.spe-amsterdam.nl/event/vrijwilligersacademie-training-trainer-als-procesbegeleider/
LOCATION:Vrijwilligersacademie Amsterdam\, Keizersgracht 334\, Amsterdam\, 1016 EZ\, Nederland
ATTACH;FMTTYPE=image/png:https://www.spe-amsterdam.nl/wp-content/uploads/2016/02/Logo-Vrijwilligersacademie-1.png
ORGANIZER;CN="Vrijwilligersacademie%20Amsterdam":MAILTO:info@vrijwilligersacademie.net
END:VEVENT
BEGIN:VEVENT
DTSTART;TZID=Europe/Amsterdam:20210422T140000
DTEND;TZID=Europe/Amsterdam:20210422T170000
DTSTAMP:20260422T155017
CREATED:20210210T142025Z
LAST-MODIFIED:20210210T142025Z
UID:17599-1619100000-1619110800@www.spe-amsterdam.nl
SUMMARY:Stichting Congada - Zorgeloos met Pensioen
DESCRIPTION:Het project ‘Zorgeloos met Pensioen’ van Stichting Congada heeft als doel vrouwen te helpen om (financieel) bewuster met pensioen te gaan. Veel vrouwen zijn namelijk financieel niet goed voorbereid op hun pensioen. Zij hebben niet genoeg pensioen opgebouwd om financieel onafhankelijk te blijven en vallen in een AOW gat. Om ongewenste situaties te voorkomen\, creëert het project bewustwording in de financiële situatie in de pre pensioen periode\, want nu kan je nog voorbereiden\, zodat ook deze vrouwen ‘zorgeloos met pensioen kunnen gaan’.  \nWij willen de vrouwen helpen met hun huidige en toekomstige financiele situatie. Wij willen ze hierbij handvatten aanreiken om de niet werkzame periode van hun leven aangenamer te maken\, door hier nu al in te investeren. Wij willen dat deze vrouwen hun toekomst veilig stellen. Wij willen vrouwen die in een sociaal isolement zitten hieruit halen\, zorgen dat ze weer participeren in de maatschappij en uiteindelijk bijdragen aan de maatschappij. \n  \nHET PROJECT ZAL OP VERSCHILLENDE LOCATIES\, VERSCHILLENDE DAGEN EN TIJDEN EN IN VERSCHILLENDE STADSDELEN PLAATSVINDEN. \nCONTACTPERSOON: SOPHIA A-TJAK-HIWAT TELEFOON 06-27000816 \n\n\n\nDE AFTRAP OP ZATERDAG 20 FEBRUARI\nIN NOLIMIT AMSTERDAM ZUIDOOST GELDERSHOOFD 80 VAN 15.00 TOT 18.00 UUR \n \n\n\nZATERDAG 6 MAART\nIN HET HUIS VAN DE BUURT IN DIEMEN OUDERKERKERLAAN 30 VAN 14.00 TOT 17.00 UUR \n \n\n\nVRIJDAG 19 MAART\nVAN 19.00 TOT 22.00 UUR IN DE NACHTEGAAL \nGRUBBEHOEVE 38 AMSTERDAM ZUIDOOST \n \n\n\nZATERDAG 3 APRIL\nVAN 15.00 TOT 18.00 UUR IN STADSDEEL OOST IN HET FLEVOHUIS KRAMATPLANTSOEN OF BUURTHUIS VONK AMBONPLEIN \n \n\n\nZATERDAG 17 APRIL\nVAN 15.00 TOT 18.00 UUR IN STADSDEEL WEST BIJ STICHTING ADELHEID + ZINA AAN DE BURGEMEESTER DE VLUGTLAAN 125 \n \n\n\nDONDERDAG 22 APRIL\nVAN 14.00 TOT 17.00 UUR STADSDEEL NOORD LOCATIE VIA STICHTING MALAK \n \n\n\nZONDAG 9 MEI\nVAN 14.00 TOT 17.00 UUR STADSDEEL OOST LOCATIE NOG ONBEKEND \n \n\n\nDONDERDAG 20 MEI\nVAN 10.00 TOT 13.00 UUR BIJ ZUIDOOST UNITED BIJLMERSPORTPARK KARSPELDREEF 505 STADSDEEL ZUIDOOST \n \n\n\nDINSDAG 1 JUNI\nVAN 10.00 TOT 13.00 UUR STADSEEL CENTRUM LOCATIE WORDT NADER BEKEND GEMAAKT \n \n\n\nZATERDAG 12 JUNI OP DEZE DAG WILLEN WE OOK IN STADSDEEL ZUID IN DE OCHTEND EEN BIJEENKOMST HOUDEN. WE ZIJN NOG OP ZOEK NAAR EEN GESCHIKTE LOCATIE\nLAATSTE BIJEENKOMST VOOR DE ZOMERSTOP IN NOLIMIT AMSTERDAM ZUIDOOST VAN 18.00 TOT 21.00 UUR \n \n\n\n\n  \nDEZE 11 BIJEENKOMSTEN ZULLEN IN HET TEKEN STAAN VAN VOORLICHTING EN INFORMATIE OVER DE GEVOLGEN VAN EEN PENSIOEN GAT EN WAT ER NOG AAN TE DOEN IS EN UITERAARD VOOR HET STELLEN VAN VRAGEN. DAN MAKEN WE DE BALANS OP EN EVALUREN. DE VROUWEN DIE BEHOEFTE HEBBEN AAN INDIVIDUELE BEGELEIDING KRIJGEN DAT NA DE ZOMERVAKANTIE OOK ZAL ER RUIMTE ZIJN VOOR EEN TRAINING IN KLEINE GROEPJES VAN 5 TOT 10 DEELNEMERS.
URL:https://www.spe-amsterdam.nl/event/stichting-congada-zorgeloos-met-pensioen-6/
LOCATION:J. Drijverweg 5A.
CATEGORIES:Bijeenkomsten vrouwenorganisaties
ATTACH;FMTTYPE=image/jpeg:https://www.spe-amsterdam.nl/wp-content/uploads/2021/02/congada.jpg
END:VEVENT
END:VCALENDAR