BEGIN:VCALENDAR
VERSION:2.0
PRODID:-//SPE-Amsterdam - ECPv6.1.3//NONSGML v1.0//EN
CALSCALE:GREGORIAN
METHOD:PUBLISH
X-ORIGINAL-URL:https://www.spe-amsterdam.nl
X-WR-CALDESC:Evenementen voor SPE-Amsterdam
REFRESH-INTERVAL;VALUE=DURATION:PT1H
X-Robots-Tag:noindex
X-PUBLISHED-TTL:PT1H
BEGIN:VTIMEZONE
TZID:Europe/Amsterdam
BEGIN:DAYLIGHT
TZOFFSETFROM:+0100
TZOFFSETTO:+0200
TZNAME:CEST
DTSTART:20210328T010000
END:DAYLIGHT
BEGIN:STANDARD
TZOFFSETFROM:+0200
TZOFFSETTO:+0100
TZNAME:CET
DTSTART:20211031T010000
END:STANDARD
END:VTIMEZONE
BEGIN:VEVENT
DTSTART;TZID=Europe/Amsterdam:20210410T100000
DTEND;TZID=Europe/Amsterdam:20210410T130000
DTSTAMP:20260422T155029
CREATED:20210323T125936Z
LAST-MODIFIED:20210323T125936Z
UID:17870-1618048800-1618059600@www.spe-amsterdam.nl
SUMMARY:Venzo - Cursus public speaking voor maatschappelijke organisaties
DESCRIPTION:De cursus \nPublic speaking is het presenteren voor live publiek. Niet iets dat een ieder altijd even gemakkelijk afgaat. Je wordt aangekeken door iedereen\, misschien ben je bang om te falen\, wellicht ben je onzeker over jouw voorkomen of ben je bang dat de inhoud van jouw presentatie niet interessant genoeg is. Toch is public speaking iets dat heel belangrijk is voor het informeren\, werven en binden van opdrachtgevers en relevante doelgroepen. Ook is het iets dat je kan leren en oefenen. Kom dat doen in deze cursus! \nIn deze 3-delige cursus gaan we aan de slag met het creëren van een signature speech. Dit is een informerende\, overtuigende en verleidende presentatie over jouw organisatie en diensten\, relevant voor jouw doelgroep en mogelijke opdrachtgevers. We besteden aandacht aan de opbouw van deze speech en aan de manier van het vertellen. Authentiek\, persoonlijk\, dicht bij jezelf\, de successen maar ook het vallen en opstaan. Daarmee inspireer je jouw publiek en kan je ze meenemen.\nTijdens de cursus wordt er veel geoefend\, er worden opnames gemaakt en deze worden bekeken en besproken om het leerrendement te vergroten. \nDe cursus wordt gegeven door Claudia Esajas. Zij studeerde Taal- en Literatuurwetenschappen. Claudia heeft een passie voor taal. 10 jaar was zij lid van Toastmasters International waar zij alles leerde over spreken in het openbaar. Storytelling leerde zij van een aantal van de grootste namen op het gebied van public speaking. Claudia Esajas is sprekerscoach. \nVoor wie \nDeze cursus is voor vertegenwoordigers van stichtingen\, verenigingen en bewonersinitiatieven\, die te maken hebben met het presenteren in het openbaar over de organisatie. \nResultaten \nNa het volgen van deze cursus: \n\nWeet je hoe je jouw verhaal op een authentieke manier voor een (live) publiek presenteert;\nHeb je geleerd een ijzersterke verhaalstructuur voor je speech neer te zetten en boeiende karakters te creëren;\nHeb je een bruikbaar filmpje van jouw speech\, of filmmateriaal waarmee een filmpje gemonteerd kan worden.\n\nWerkwijze \n\nPresentatie en interactieve informatie uitwisseling;\nOefeningen en reflectie;\nFilmopnames en reflectie.\n\nDocent \nClaudia Esajas
URL:https://www.spe-amsterdam.nl/event/venzo-cursus-public-speaking-voor-maatschappelijke-organisaties/
LOCATION:Online
ATTACH;FMTTYPE=image/jpeg:https://www.spe-amsterdam.nl/wp-content/uploads/2016/03/Venzo.jpg
ORGANIZER;CN="Venzo":MAILTO:info@venzo.co.nl
END:VEVENT
END:VCALENDAR