BEGIN:VCALENDAR
VERSION:2.0
PRODID:-//SPE-Amsterdam - ECPv6.1.3//NONSGML v1.0//EN
CALSCALE:GREGORIAN
METHOD:PUBLISH
X-ORIGINAL-URL:https://www.spe-amsterdam.nl
X-WR-CALDESC:Evenementen voor SPE-Amsterdam
REFRESH-INTERVAL;VALUE=DURATION:PT1H
X-Robots-Tag:noindex
X-PUBLISHED-TTL:PT1H
BEGIN:VTIMEZONE
TZID:Europe/Amsterdam
BEGIN:DAYLIGHT
TZOFFSETFROM:+0100
TZOFFSETTO:+0200
TZNAME:CEST
DTSTART:20210328T010000
END:DAYLIGHT
BEGIN:STANDARD
TZOFFSETFROM:+0200
TZOFFSETTO:+0100
TZNAME:CET
DTSTART:20211031T010000
END:STANDARD
END:VTIMEZONE
BEGIN:VEVENT
DTSTART;TZID=Europe/Amsterdam:20210406T130000
DTEND;TZID=Europe/Amsterdam:20210406T170000
DTSTAMP:20260422T155029
CREATED:20210402T083728Z
LAST-MODIFIED:20210402T084613Z
UID:17910-1617714000-1617728400@www.spe-amsterdam.nl
SUMMARY:Vrijwilligersacademie Amsterdam - Training: Binden en boeien van vrijwilligers
DESCRIPTION:Binden en boeien van vrijwilligers (Zoom)\nEen workshop waarin je leert om je vrijwilligers beter te inspireren door hun competenties te versterken en daarmee een betere kwaliteit te leveren met jouw vrijwilligersdiensten. \nDoel en inhoud\nNa afloop kan je vrijwilligers in de zorg en welzijn zo goed mogelijk binnenhalen\, begeleiden en behouden\, zodat er sprake is van de meest optimale ruil. \nIn deze workshop: \n\nmaak je kennis met de basisuitgangspunten om vrijwilligers te begeleiden en te behouden.\noefen je met kennismaking\, evaluatie en eindgesprek wb de motivatie\, kwaliteiten en beschikbaarheid van de vrijwilliger\nis er ruimte voor vragen\, onderlinge uitwisseling en verdere informatie.\n\nAan het eind van de workshop weet je waar jouw (toekomstige) vrijwilligers mee toegerust kunnen worden als ze aan het werk gaan. Deze onderwerpen zijn onder meer: \n\ntypering vrijwilligers\, motivaties\, niveau van betrokkenheid\nkennis\, houding en vaardigheid bij het doen van kennismakings-\, evaluatie en eindgesprek\ncommunicatievaardigheden en binden en blijven boeien van vrijwilligers.\n\nHoe werkt het?\nWe werken met het video conferencing systeem Zoom. Voorafgaande aan de training ontvang je instructie hoe je Zoom kunt installeren op je computer\, laptop of tablet. Voor de online bijeenkomst ontvang je een uitnodiging met link.\nWij verzoeken je zowel met beeld als geluid aanwezig te zijn. Tussendoor houden we pauze. \nVoor wie?\nAls jij je bezig houdt met het binden en boeien van vrijwilligers in de zorg en welzijn en je wilt daarin betere kwaliteit leveren\, dan is deze workshop voor jou. \nTijdsinvestering\n4 uur. \nStudiemateriaal\nVinden en binden van vrijwilligers\, door Jan-Willem de Gast en David Wijnperle\, 2012 (Movisie). Je ontvangt dit materiaal in pdf formaat. \nAantal deelnemers\nDeze training biedt plaats aan maximaal 10 deelnemers. \nCertificaat van deelname\nJa
URL:https://www.spe-amsterdam.nl/event/vrijwilligersacademie-amsterdam-training-binden-en-boeien-van-vrijwilligers/
LOCATION:Online
ATTACH;FMTTYPE=image/png:https://www.spe-amsterdam.nl/wp-content/uploads/2016/02/Logo-Vrijwilligersacademie-1.png
ORGANIZER;CN="Vrijwilligersacademie%20Amsterdam":MAILTO:info@vrijwilligersacademie.net
END:VEVENT
END:VCALENDAR