BEGIN:VCALENDAR
VERSION:2.0
PRODID:-//SPE-Amsterdam - ECPv6.1.3//NONSGML v1.0//EN
CALSCALE:GREGORIAN
METHOD:PUBLISH
X-ORIGINAL-URL:https://www.spe-amsterdam.nl
X-WR-CALDESC:Evenementen voor SPE-Amsterdam
REFRESH-INTERVAL;VALUE=DURATION:PT1H
X-Robots-Tag:noindex
X-PUBLISHED-TTL:PT1H
BEGIN:VTIMEZONE
TZID:Europe/Amsterdam
BEGIN:DAYLIGHT
TZOFFSETFROM:+0100
TZOFFSETTO:+0200
TZNAME:CEST
DTSTART:20210328T010000
END:DAYLIGHT
BEGIN:STANDARD
TZOFFSETFROM:+0200
TZOFFSETTO:+0100
TZNAME:CET
DTSTART:20211031T010000
END:STANDARD
END:VTIMEZONE
BEGIN:VEVENT
DTSTART;TZID=Europe/Amsterdam:20210401T080000
DTEND;TZID=Europe/Amsterdam:20210401T170000
DTSTAMP:20260422T141013
CREATED:20210331T093751Z
LAST-MODIFIED:20210331T094318Z
UID:17889-1617264000-1617296400@www.spe-amsterdam.nl
SUMMARY:Jubileumviering 20 jaar trouwen voor iedereen - Gemeente Amsterdam
DESCRIPTION:Beste Amsterdammer\, \nPrecies twintig jaar geleden\, op 1 april 2001\, werd in onze stad het eerste regenbooghuwelijk gesloten. Dat nieuws ging de hele wereld over. Amsterdam liet die dag weer eens zien dat het een stad is waar mensen zichzelf kunnen zijn: in onze stad bepaal je zelf op wie je verliefd wordt\, bepaal je zelf met wie je hand in hand loopt\, bepaal je zelf wat je gender is\, en bepaal je zelf hoe je wilt samenleven. \nAmsterdam loopt voorop als het gaat om de emancipatie van lhbtiq+ personen\, en daar zijn we trots op. Het eerste regenbooghuwelijk maakte de weg vrij voor vele andere paren van het hetzelfde geslacht in andere steden en landen\, die ook hun liefde officieel wilden bezegelen. En als gemeente hebben we sinds die dag een kleine maar belangrijke bijdrage kunnen leveren aan het geluk van een heleboel verliefde stellen. \nDaarom willen we het twintigjarig jubileum van het regenbooghuwelijk uitgebreid vieren. We hangen de stad vol met regenboogvlaggen\, varen met een reusachtige bruidstaart door de stad\, en organiseren een speciale stadswandeling langs plekken die belangrijk zijn in de strijd voor acceptatie en gelijke rechten. Ook organiseren we de reizende fototentoonstelling Legale Liefde\, waarin twintig getrouwde regenboogstellen vertellen over de betekenis van hun huwelijk.  \nDe vlag kan uit\, maar er is ook reden tot zorg. Want gelijke rechten betekenen niet automatisch dat iedereen ook gelijkwaardig behandeld wordt. Nog steeds hebben lhbtiq+ personen in Amsterdam soms te maken met uitsluiting\, geweld en discriminatie. Dat is onacceptabel.  \nIn het online symposium ‘Twintig jaar trouwen voor iedereen: van gelijke rechten naar gelijkwaardigheid’ gaan we op 1 april in gesprek over de emancipatie van de regenbooggemeenschap in Nederland: wat is er al bereikt en wat is er nog nodig om ervoor te zorgen dat iedereen volop de ruimte krijgt om in vrijheid zichzelf te kunnen zijn? \nOver vier jaar bestaat Amsterdam 750 jaar\, en dat gaan we groots vieren. Maar ook nu al staan we stil bij de hoogtepunten uit de geschiedenis van onze stad. Zoals die bijzondere dag in 2001\, toen we de wereld lieten zien dat Amsterdammers zich niet laten vertellen wie ze moeten zijn en hoe ze moeten leven. Dat weten ze zelf veel beter.  \nWe willen u vragen om zelf op 1 april ook de regenboogvlag op het raam te hangen en hiermee zichtbaar te maken dat Amsterdam opkomt voor lhbtiq+ personen. Voor hun rechten\, én voor hun gelijkwaardige behandeling.  \nMet hartelijke groet\, \nFemke Halsema\, burgemeester \nRutger Groot Wassink\, wethouder Diversiteit \nKijk voor meer informatie over de activiteiten in de stad op: amsterdam.nl/twintigjaartrouwenvooriedereen 
URL:https://www.spe-amsterdam.nl/event/jubileumviering-20-jaar-trouwen-voor-iedereen-gemeente-amsterdam/
ATTACH;FMTTYPE=image/jpeg:https://www.spe-amsterdam.nl/wp-content/uploads/2021/03/550x309.jpg
END:VEVENT
BEGIN:VEVENT
DTSTART;TZID=Europe/Amsterdam:20210401T190000
DTEND;TZID=Europe/Amsterdam:20210401T190000
DTSTAMP:20260422T141013
CREATED:20210318T114355Z
LAST-MODIFIED:20210318T114355Z
UID:17850-1617303600-1617303600@www.spe-amsterdam.nl
SUMMARY:Atria - Webinar ‘Vrouwen in de Politiek: van 1919 tot nu
DESCRIPTION:Wat waren de meest bijzondere momenten voor vrouwen in de politiek de afgelopen 100 jaar\, en welke politieke vrouwen van nu komen er in de geschiedenisboeken?  \nNooit eerder waren er zoveel vrouwelijke lijsttrekkers\, en de kieslijsten zijn diverser dan ooit. De politiek wordt steeds meer een echte vertegenwoordiging van het volk. Op deze avond gaan we het hebben over hoe we hier gekomen zijn. \nHet webinar trapt af met Susanne Neugebauer\, archivaris van Atria. Ze geeft een mini-college  aan de hand van bijzondere archiefstukken. Daarna volgt een panelgesprek met o.a. Evelien Eshuis (eerste openlijk lesbische Tweede Kamerlid\, 1982-1986) en moderator en politiek historica Rosanne Schot. \nDit webinar wordt je aangeboden door Politieke Vrouwen\, het netwerk van het ministerie van Binnenlandse Zaken en Koninkrijksrelaties en Stichting Stem op een Vrouw \nGeinteresseerd? Meld je aan via de website.
URL:https://www.spe-amsterdam.nl/event/atria-webinar-vrouwen-in-de-politiek-van-1919-tot-nu/
LOCATION:Online
ATTACH;FMTTYPE=image/gif:https://www.spe-amsterdam.nl/wp-content/uploads/2016/02/atria.gif
END:VEVENT
END:VCALENDAR