BEGIN:VCALENDAR
VERSION:2.0
PRODID:-//SPE-Amsterdam - ECPv6.1.3//NONSGML v1.0//EN
CALSCALE:GREGORIAN
METHOD:PUBLISH
X-ORIGINAL-URL:https://www.spe-amsterdam.nl
X-WR-CALDESC:Evenementen voor SPE-Amsterdam
REFRESH-INTERVAL;VALUE=DURATION:PT1H
X-Robots-Tag:noindex
X-PUBLISHED-TTL:PT1H
BEGIN:VTIMEZONE
TZID:Europe/Amsterdam
BEGIN:DAYLIGHT
TZOFFSETFROM:+0100
TZOFFSETTO:+0200
TZNAME:CEST
DTSTART:20210328T010000
END:DAYLIGHT
BEGIN:STANDARD
TZOFFSETFROM:+0200
TZOFFSETTO:+0100
TZNAME:CET
DTSTART:20211031T010000
END:STANDARD
END:VTIMEZONE
BEGIN:VEVENT
DTSTART;VALUE=DATE:20210331
DTEND;VALUE=DATE:20210401
DTSTAMP:20260422T141014
CREATED:20210225T125725Z
LAST-MODIFIED:20210225T125725Z
UID:17726-1617148800-1617235199@www.spe-amsterdam.nl
SUMMARY:Mama Cash - Deadline subsidie aanvraag 2021
DESCRIPTION:Mama Cash neemt tussen 1 maart en 31 maart 2021 (tot 23:59 uur CEST) nieuwe subsidieaanvragen (letters of interest) in ontvangst van groepen die momenteel niet door Mama Cash gesteund worden. Groepen die binnen deze periode een aanvraag indienen\, krijgen vóór 1 juli 2021 bericht van Mama Cash. \nMama Cash ondersteunt over de hele wereld ambitieuze feministische organisaties\, organisaties voor de rechten van vrouwen\, meiden\, trans en intersekse personen en andere initiatieven dóór en vóór vrouwen\, meiden\, trans en intersekse personen. Groepen die een aanvraag willen indienen\, worden geadviseerd om eerst de selectiecriteria en prioriteit van Mama Cash te lezen. \nMama Cash is bezig met een overgang naar volledig participerende subsidieverlening. Dit betekent dat we de besluitvorming over al onze subsidies dit jaar verschuiven van onze eigen medewerkers naar de gemeenschappen die wij willen ondersteunen. Ons participatieproces bestaat uit twee stappen. In de eerste stap verstrekken al onze aanvragers informatie en richtlijnen over de kwesties die prioriteit verdienen. In de tweede stap neemt een commissie die een weerspiegeling is van de groepen die wij willen ondersteunen\, de beslissingen over de nieuwe groepen die we zullen steunen.
URL:https://www.spe-amsterdam.nl/event/mama-cash-deadline-subsidie-aanvraag-2021/
LOCATION:Online
ATTACH;FMTTYPE=image/png:https://www.spe-amsterdam.nl/wp-content/uploads/2016/05/mama-cash-logo.png
ORGANIZER;CN="Mama%20Cash":MAILTO:info@mamacash.org
END:VEVENT
END:VCALENDAR