BEGIN:VCALENDAR
VERSION:2.0
PRODID:-//SPE-Amsterdam - ECPv6.1.3//NONSGML v1.0//EN
CALSCALE:GREGORIAN
METHOD:PUBLISH
X-ORIGINAL-URL:https://www.spe-amsterdam.nl
X-WR-CALDESC:Evenementen voor SPE-Amsterdam
REFRESH-INTERVAL;VALUE=DURATION:PT1H
X-Robots-Tag:noindex
X-PUBLISHED-TTL:PT1H
BEGIN:VTIMEZONE
TZID:Europe/Amsterdam
BEGIN:DAYLIGHT
TZOFFSETFROM:+0100
TZOFFSETTO:+0200
TZNAME:CEST
DTSTART:20210328T010000
END:DAYLIGHT
BEGIN:STANDARD
TZOFFSETFROM:+0200
TZOFFSETTO:+0100
TZNAME:CET
DTSTART:20211031T010000
END:STANDARD
END:VTIMEZONE
BEGIN:VEVENT
DTSTART;TZID=Europe/Amsterdam:20210314T110000
DTEND;TZID=Europe/Amsterdam:20210314T120000
DTSTAMP:20260422T142429
CREATED:20210304T100248Z
LAST-MODIFIED:20210304T100248Z
UID:17807-1615719600-1615723200@www.spe-amsterdam.nl
SUMMARY:Vrouwendag Amsterdam West - Pilates actief
DESCRIPTION:Kom in beweging met pilates actief. De les wordt gegeven door Liane de Wit. Zin om mee te doen? Meldt u aan bij de Facebookgroep ‘Vrouwendag Amsterdam West’.
URL:https://www.spe-amsterdam.nl/event/vrouwendag-amsterdam-west-pilates-actief/
LOCATION:Online
END:VEVENT
END:VCALENDAR