BEGIN:VCALENDAR
VERSION:2.0
PRODID:-//SPE-Amsterdam - ECPv6.1.3//NONSGML v1.0//EN
CALSCALE:GREGORIAN
METHOD:PUBLISH
X-WR-CALNAME:SPE-Amsterdam
X-ORIGINAL-URL:https://www.spe-amsterdam.nl
X-WR-CALDESC:Evenementen voor SPE-Amsterdam
REFRESH-INTERVAL;VALUE=DURATION:PT1H
X-Robots-Tag:noindex
X-PUBLISHED-TTL:PT1H
BEGIN:VTIMEZONE
TZID:Europe/Amsterdam
BEGIN:DAYLIGHT
TZOFFSETFROM:+0100
TZOFFSETTO:+0200
TZNAME:CEST
DTSTART:20210328T010000
END:DAYLIGHT
BEGIN:STANDARD
TZOFFSETFROM:+0200
TZOFFSETTO:+0100
TZNAME:CET
DTSTART:20211031T010000
END:STANDARD
END:VTIMEZONE
BEGIN:VEVENT
DTSTART;TZID=Europe/Amsterdam:20210313T140000
DTEND;TZID=Europe/Amsterdam:20210313T150000
DTSTAMP:20260422T141604
CREATED:20210304T094228Z
LAST-MODIFIED:20210304T094228Z
UID:17800-1615644000-1615647600@www.spe-amsterdam.nl
SUMMARY:Stichting Raad is Daad - Theeuurtje
DESCRIPTION:Speciaal voor de senioren met een Turkse achtergrond is er een interactief thee moment. Ozlem Bayar van Stichting Raad is Daad gaat in gesprek met aanwezigen over thema’s zoals gezondheid\, geluk\, familie en eenzaamheid. Wilt u meedoen? Meld u aan bij de Facebookgroep ‘Vrouwendag Amsterdam West’.
URL:https://www.spe-amsterdam.nl/event/stichting-raad-is-daad-theeuurtje-2/
LOCATION:Online
END:VEVENT
BEGIN:VEVENT
DTSTART;TZID=Europe/Amsterdam:20210313T200000
DTEND;TZID=Europe/Amsterdam:20210313T210000
DTSTAMP:20260422T141604
CREATED:20210304T095900Z
LAST-MODIFIED:20210304T095900Z
UID:17805-1615665600-1615669200@www.spe-amsterdam.nl
SUMMARY:ProductieLab - Mijn verhaal
DESCRIPTION:Altijd al uw emoties en gedachten willen opschrijven? Doe mee met de workshop Mijn verhaal van Mireille Bukdeo Rai. Aanmelden voor de workshop kan via info@productielab.nl.
URL:https://www.spe-amsterdam.nl/event/productielab-mijn-verhaal/
LOCATION:Online
ATTACH;FMTTYPE=image/png:https://www.spe-amsterdam.nl/wp-content/uploads/2020/09/productielab.png
END:VEVENT
END:VCALENDAR